BEGIN:VCALENDAR
VERSION:2.0
PRODID:-//Brainstrust - ECPv6.15.20//NONSGML v1.0//EN
CALSCALE:GREGORIAN
METHOD:PUBLISH
X-WR-CALNAME:Brainstrust
X-ORIGINAL-URL:https://brainstrust.org.uk
X-WR-CALDESC:Events for Brainstrust
REFRESH-INTERVAL;VALUE=DURATION:PT1H
X-Robots-Tag:noindex
X-PUBLISHED-TTL:PT1H
BEGIN:VTIMEZONE
TZID:Europe/London
BEGIN:DAYLIGHT
TZOFFSETFROM:+0000
TZOFFSETTO:+0100
TZNAME:BST
DTSTART:20250330T010000
END:DAYLIGHT
BEGIN:STANDARD
TZOFFSETFROM:+0100
TZOFFSETTO:+0000
TZNAME:GMT
DTSTART:20251026T010000
END:STANDARD
BEGIN:DAYLIGHT
TZOFFSETFROM:+0000
TZOFFSETTO:+0100
TZNAME:BST
DTSTART:20260329T010000
END:DAYLIGHT
BEGIN:STANDARD
TZOFFSETFROM:+0100
TZOFFSETTO:+0000
TZNAME:GMT
DTSTART:20261025T010000
END:STANDARD
BEGIN:DAYLIGHT
TZOFFSETFROM:+0000
TZOFFSETTO:+0100
TZNAME:BST
DTSTART:20270328T010000
END:DAYLIGHT
BEGIN:STANDARD
TZOFFSETFROM:+0100
TZOFFSETTO:+0000
TZNAME:GMT
DTSTART:20271031T010000
END:STANDARD
END:VTIMEZONE
BEGIN:VEVENT
DTSTART;VALUE=DATE:20260329
DTEND;VALUE=DATE:20260330
DTSTAMP:20260420T201433
CREATED:20250206T000000Z
LAST-MODIFIED:20260420T162333Z
UID:13772-1774742400-1774828799@brainstrust.org.uk
SUMMARY:Wolverhampton 10k 2026
DESCRIPTION:Join team brainstrust’s mission to help people with a brain tumour at the Wolverhampton 10k. Join us for the brand new ROAD CLOSED Wolverhampton 10k. Starting and finishing at Molineux Stadium this race is open to all abilities and offers the perfect opportunity to run a chip timed 10k! \nYou will each get a unique themed medal\, free official race photos\, chip times results and post-race snacks. Each kilometre will be accurately marked out with distance flags and we have plenty of helpers to keep you on track and to encourage you on your way to the finish. Deadline for entries is 2nd March 2026.
URL:https://brainstrust.org.uk/event/wolverhampton-10k-2026/
CATEGORIES:Fundraising Events
ATTACH;FMTTYPE=image/jpeg:https://brainstrust.org.uk/wp-content/uploads/2026/02/emily-london-landmarks-running-pic.jpeg
END:VEVENT
END:VCALENDAR