BEGIN:VCALENDAR
VERSION:2.0
PRODID:-//Brainstrust - ECPv6.15.20//NONSGML v1.0//EN
CALSCALE:GREGORIAN
METHOD:PUBLISH
X-WR-CALNAME:Brainstrust
X-ORIGINAL-URL:https://brainstrust.org.uk
X-WR-CALDESC:Events for Brainstrust
REFRESH-INTERVAL;VALUE=DURATION:PT1H
X-Robots-Tag:noindex
X-PUBLISHED-TTL:PT1H
BEGIN:VTIMEZONE
TZID:Europe/London
BEGIN:DAYLIGHT
TZOFFSETFROM:+0000
TZOFFSETTO:+0100
TZNAME:BST
DTSTART:20250330T010000
END:DAYLIGHT
BEGIN:STANDARD
TZOFFSETFROM:+0100
TZOFFSETTO:+0000
TZNAME:GMT
DTSTART:20251026T010000
END:STANDARD
BEGIN:DAYLIGHT
TZOFFSETFROM:+0000
TZOFFSETTO:+0100
TZNAME:BST
DTSTART:20260329T010000
END:DAYLIGHT
BEGIN:STANDARD
TZOFFSETFROM:+0100
TZOFFSETTO:+0000
TZNAME:GMT
DTSTART:20261025T010000
END:STANDARD
BEGIN:DAYLIGHT
TZOFFSETFROM:+0000
TZOFFSETTO:+0100
TZNAME:BST
DTSTART:20270328T010000
END:DAYLIGHT
BEGIN:STANDARD
TZOFFSETFROM:+0100
TZOFFSETTO:+0000
TZNAME:GMT
DTSTART:20271031T010000
END:STANDARD
END:VTIMEZONE
BEGIN:VEVENT
DTSTART;VALUE=DATE:20260419
DTEND;VALUE=DATE:20260420
DTSTAMP:20260420T201541
CREATED:20260415T142342Z
LAST-MODIFIED:20260415T142628Z
UID:30267-1776556800-1776643199@brainstrust.org.uk
SUMMARY:WE Run for brainstrust returns in 2026
DESCRIPTION:In loving memory of Wayne Elvin\, a much-loved and deeply missed parent and friend of the school\, we are proud to bring you another WE Run for brainstrust 5k and 10k event. \nThis is your opportunity to make a real difference for the 79 people diagnosed with a brain tumour each day in the UK*.  Together\, we can help ensure that no one has to face this journey alone. \n\nWhen: Sunday 19 April 2026\nWhere: Culford School\, Bury St. Edmunds\, IP28 6TX\nEvent start time: 9:00am\nRace start time: 10:00am\n\nStarting from the rugby pitch at the rear of the school\, the circular loop takes you through the scenic Culford Estate grounds. The course leads past the sports hall\, church\, and cricket pavilion\, crossing the iconic iron bridge and looping around the lake before bringing you back to the rugby pitches\, where supporters will cheer you on at the finish line. The terrain includes grass pathways\, gravel tracks\, and tarmac roads\, offering a memorable running experience. \nPlease note: \n\nThe event is open to all ages\, under 10’s must be accompanied by an adult.\nA £10 non-refundable deposit is required to secure your place for the 5k.\nA £15 non-refundable deposit is required to secure your place for the 10k.\nClosing date for online registration: Friday 17 April (12 noon)\n\nClick here to register for your place on the starting line!\nWe can’t wait to see you there\, to honour Wayne Elvin’s legacy\, and support the incredible work of brainstrust. \n*On average\, 79 people hear the words “you have a brain tumour” each day: 44 with metastatic and 35 with primary diagnoses.
URL:https://brainstrust.org.uk/event/we-run-for-brainstrust-returns-in-2026/
CATEGORIES:Fundraising Events
ATTACH;FMTTYPE=image/jpeg:https://brainstrust.org.uk/wp-content/uploads/2026/04/86844114-1be9-44b4-b9fb-43f03c44bac1-1-2-768x1024-1.jpg
END:VEVENT
END:VCALENDAR