BEGIN:VCALENDAR
VERSION:2.0
PRODID:-//Brainstrust - ECPv6.15.20//NONSGML v1.0//EN
CALSCALE:GREGORIAN
METHOD:PUBLISH
X-WR-CALNAME:Brainstrust
X-ORIGINAL-URL:https://brainstrust.org.uk
X-WR-CALDESC:Events for Brainstrust
REFRESH-INTERVAL;VALUE=DURATION:PT1H
X-Robots-Tag:noindex
X-PUBLISHED-TTL:PT1H
BEGIN:VTIMEZONE
TZID:Europe/London
BEGIN:DAYLIGHT
TZOFFSETFROM:+0000
TZOFFSETTO:+0100
TZNAME:BST
DTSTART:20250330T010000
END:DAYLIGHT
BEGIN:STANDARD
TZOFFSETFROM:+0100
TZOFFSETTO:+0000
TZNAME:GMT
DTSTART:20251026T010000
END:STANDARD
BEGIN:DAYLIGHT
TZOFFSETFROM:+0000
TZOFFSETTO:+0100
TZNAME:BST
DTSTART:20260329T010000
END:DAYLIGHT
BEGIN:STANDARD
TZOFFSETFROM:+0100
TZOFFSETTO:+0000
TZNAME:GMT
DTSTART:20261025T010000
END:STANDARD
BEGIN:DAYLIGHT
TZOFFSETFROM:+0000
TZOFFSETTO:+0100
TZNAME:BST
DTSTART:20270328T010000
END:DAYLIGHT
BEGIN:STANDARD
TZOFFSETFROM:+0100
TZOFFSETTO:+0000
TZNAME:GMT
DTSTART:20271031T010000
END:STANDARD
END:VTIMEZONE
BEGIN:VEVENT
DTSTART;VALUE=DATE:20260509
DTEND;VALUE=DATE:20260510
DTSTAMP:20260420T185402
CREATED:20241127T000000Z
LAST-MODIFIED:20260420T162318Z
UID:13707-1778284800-1778371199@brainstrust.org.uk
SUMMARY:Tough Mudder 5km / 15km Challenges - May - October Nationwide 2026
DESCRIPTION:Join team brainstrust’s mission to help people with a brain tumour at the 2025 Tough Mudder. The ultimate obstacle course challenge now has 20+ obstacles over a 15 Kilometre run. With no competition and no timing\, it’s just you\, your teammates and muddy strangers working together to conquer the course and earn the world-famous orange headband. The series is available between May and October in London\, Midlands\, Scotland\, Yorkshire\, South West & Manchester. Will you take on the ultimate team challenge for brainstrust in 2026? \nIncluded in ticket \n\nFinishers Medal\nFinisher Shirt\nFinishers Headband\nFree Parking\n\n \n 
URL:https://brainstrust.org.uk/event/tough-mudder-5km-15km-challenges-may-october-nationwide-2026/
CATEGORIES:Fundraising Events
ATTACH;FMTTYPE=image/jpeg:https://brainstrust.org.uk/wp-content/uploads/2026/02/51ho1hcrd7locbxu.jpg
END:VEVENT
END:VCALENDAR