BEGIN:VCALENDAR
VERSION:2.0
PRODID:-//Brainstrust - ECPv6.15.20//NONSGML v1.0//EN
CALSCALE:GREGORIAN
METHOD:PUBLISH
X-WR-CALNAME:Brainstrust
X-ORIGINAL-URL:https://brainstrust.org.uk
X-WR-CALDESC:Events for Brainstrust
REFRESH-INTERVAL;VALUE=DURATION:PT1H
X-Robots-Tag:noindex
X-PUBLISHED-TTL:PT1H
BEGIN:VTIMEZONE
TZID:Europe/London
BEGIN:DAYLIGHT
TZOFFSETFROM:+0000
TZOFFSETTO:+0100
TZNAME:BST
DTSTART:20250330T010000
END:DAYLIGHT
BEGIN:STANDARD
TZOFFSETFROM:+0100
TZOFFSETTO:+0000
TZNAME:GMT
DTSTART:20251026T010000
END:STANDARD
BEGIN:DAYLIGHT
TZOFFSETFROM:+0000
TZOFFSETTO:+0100
TZNAME:BST
DTSTART:20260329T010000
END:DAYLIGHT
BEGIN:STANDARD
TZOFFSETFROM:+0100
TZOFFSETTO:+0000
TZNAME:GMT
DTSTART:20261025T010000
END:STANDARD
BEGIN:DAYLIGHT
TZOFFSETFROM:+0000
TZOFFSETTO:+0100
TZNAME:BST
DTSTART:20270328T010000
END:DAYLIGHT
BEGIN:STANDARD
TZOFFSETFROM:+0100
TZOFFSETTO:+0000
TZNAME:GMT
DTSTART:20271031T010000
END:STANDARD
END:VTIMEZONE
BEGIN:VEVENT
DTSTART;VALUE=DATE:20260913
DTEND;VALUE=DATE:20260914
DTSTAMP:20260420T200430
CREATED:20240103T000000Z
LAST-MODIFIED:20260420T162236Z
UID:13549-1789343999-1789343999@brainstrust.org.uk
SUMMARY:The Great North Run 2026
DESCRIPTION:Join team brainstrust’s mission to help people with a brain tumour at the world’s biggest and best half marathon\, with 60\,000 runners taking on the route from Newcastle to South Shields each year. Did you miss out in a place in the September ballot?  Why risk missing out in a place in the January ballot\, take up one of our charity places today! It’s famous for its inclusive atmosphere\, unbeatable on-route entertainment\, and warm Geordie welcome\, not to mention the millions raised each year for worthy causes. From the rush of the Red Arrows flying overhead to the oggy-oggy-oggy chants\, Great North Run magic can be hard to understand – until you’ve experienced it for yourself. Deadline for entries is 27th February 2026.
URL:https://brainstrust.org.uk/event/the-great-north-run-2026/
CATEGORIES:Fundraising Events
END:VEVENT
END:VCALENDAR