BEGIN:VCALENDAR
VERSION:2.0
PRODID:-//Brainstrust - ECPv6.15.20//NONSGML v1.0//EN
CALSCALE:GREGORIAN
METHOD:PUBLISH
X-WR-CALNAME:Brainstrust
X-ORIGINAL-URL:https://brainstrust.org.uk
X-WR-CALDESC:Events for Brainstrust
REFRESH-INTERVAL;VALUE=DURATION:PT1H
X-Robots-Tag:noindex
X-PUBLISHED-TTL:PT1H
BEGIN:VTIMEZONE
TZID:Europe/London
BEGIN:DAYLIGHT
TZOFFSETFROM:+0000
TZOFFSETTO:+0100
TZNAME:BST
DTSTART:20250330T010000
END:DAYLIGHT
BEGIN:STANDARD
TZOFFSETFROM:+0100
TZOFFSETTO:+0000
TZNAME:GMT
DTSTART:20251026T010000
END:STANDARD
BEGIN:DAYLIGHT
TZOFFSETFROM:+0000
TZOFFSETTO:+0100
TZNAME:BST
DTSTART:20260329T010000
END:DAYLIGHT
BEGIN:STANDARD
TZOFFSETFROM:+0100
TZOFFSETTO:+0000
TZNAME:GMT
DTSTART:20261025T010000
END:STANDARD
BEGIN:DAYLIGHT
TZOFFSETFROM:+0000
TZOFFSETTO:+0100
TZNAME:BST
DTSTART:20270328T010000
END:DAYLIGHT
BEGIN:STANDARD
TZOFFSETFROM:+0100
TZOFFSETTO:+0000
TZNAME:GMT
DTSTART:20271031T010000
END:STANDARD
END:VTIMEZONE
BEGIN:VEVENT
DTSTART;VALUE=DATE:20260906
DTEND;VALUE=DATE:20260907
DTSTAMP:20260420T200339
CREATED:20240305T000000Z
LAST-MODIFIED:20260420T162243Z
UID:18478-1788652800-1788739199@brainstrust.org.uk
SUMMARY:The Big Half 2026
DESCRIPTION:Join team brainstrust’s mission to help people with a bran tumour at The Big Half in London this September.  With only 5 charity places available\, early booking is advised! \nOrganised by London Marathon Events\, The Big Half is a vibrant\, inclusive half marathon with a fun\, festival atmosphere. The 13.1 mile course weaves through London from Tower Bridge to the iconic Cutty Sark in Greenwich. \nFantastic support across the course from the public and volunteers as well as pop up musicians and bands will keep you motivated.  It’s a great route\, whether it’s your first 13.1 mile event or you’re looking for a personal best. Registration closes on 6th August 2026. \n  \n \n 
URL:https://brainstrust.org.uk/event/the-big-half-2026/
CATEGORIES:Fundraising Events
ATTACH;FMTTYPE=image/jpeg:https://brainstrust.org.uk/wp-content/uploads/2026/02/the-big-half-pic.jpg
END:VEVENT
END:VCALENDAR