BEGIN:VCALENDAR
VERSION:2.0
PRODID:-//Brainstrust - ECPv6.15.20//NONSGML v1.0//EN
CALSCALE:GREGORIAN
METHOD:PUBLISH
X-WR-CALNAME:Brainstrust
X-ORIGINAL-URL:https://brainstrust.org.uk
X-WR-CALDESC:Events for Brainstrust
REFRESH-INTERVAL;VALUE=DURATION:PT1H
X-Robots-Tag:noindex
X-PUBLISHED-TTL:PT1H
BEGIN:VTIMEZONE
TZID:Europe/London
BEGIN:DAYLIGHT
TZOFFSETFROM:+0000
TZOFFSETTO:+0100
TZNAME:BST
DTSTART:20250330T010000
END:DAYLIGHT
BEGIN:STANDARD
TZOFFSETFROM:+0100
TZOFFSETTO:+0000
TZNAME:GMT
DTSTART:20251026T010000
END:STANDARD
BEGIN:DAYLIGHT
TZOFFSETFROM:+0000
TZOFFSETTO:+0100
TZNAME:BST
DTSTART:20260329T010000
END:DAYLIGHT
BEGIN:STANDARD
TZOFFSETFROM:+0100
TZOFFSETTO:+0000
TZNAME:GMT
DTSTART:20261025T010000
END:STANDARD
BEGIN:DAYLIGHT
TZOFFSETFROM:+0000
TZOFFSETTO:+0100
TZNAME:BST
DTSTART:20270328T010000
END:DAYLIGHT
BEGIN:STANDARD
TZOFFSETFROM:+0100
TZOFFSETTO:+0000
TZNAME:GMT
DTSTART:20271031T010000
END:STANDARD
END:VTIMEZONE
BEGIN:VEVENT
DTSTART;VALUE=DATE:20261115
DTEND;VALUE=DATE:20261116
DTSTAMP:20260420T200541
CREATED:20240116T000000Z
LAST-MODIFIED:20260420T162237Z
UID:13553-1794700800-1794787199@brainstrust.org.uk
SUMMARY:Run Alton Towers 2026
DESCRIPTION:Join team brainstrust’s mission to help people with a brain tumour at the fun for all the family Run Alton Towers event.  Choose between the 5km\, 10km or Half Marathon distance.  Not only do all finishers get a fantastic medal but entry to the park is also included as part of your race entry fee.  So do something amazing for brainstrust and then try out some of the rides at the Uk’s number one theme park. Deadline for entries is the 3rd November 2026 \n \n \n 
URL:https://brainstrust.org.uk/event/run-alton-towers-2026/
CATEGORIES:Fundraising Events
ATTACH;FMTTYPE=image/jpeg:https://brainstrust.org.uk/wp-content/uploads/2026/02/thorpe-park-annaliza-and-beth-2024.jpg
END:VEVENT
END:VCALENDAR