BEGIN:VCALENDAR
VERSION:2.0
PRODID:-//Brainstrust - ECPv6.15.20//NONSGML v1.0//EN
CALSCALE:GREGORIAN
METHOD:PUBLISH
X-WR-CALNAME:Brainstrust
X-ORIGINAL-URL:https://brainstrust.org.uk
X-WR-CALDESC:Events for Brainstrust
REFRESH-INTERVAL;VALUE=DURATION:PT1H
X-Robots-Tag:noindex
X-PUBLISHED-TTL:PT1H
BEGIN:VTIMEZONE
TZID:Europe/London
BEGIN:DAYLIGHT
TZOFFSETFROM:+0000
TZOFFSETTO:+0100
TZNAME:BST
DTSTART:20250330T010000
END:DAYLIGHT
BEGIN:STANDARD
TZOFFSETFROM:+0100
TZOFFSETTO:+0000
TZNAME:GMT
DTSTART:20251026T010000
END:STANDARD
BEGIN:DAYLIGHT
TZOFFSETFROM:+0000
TZOFFSETTO:+0100
TZNAME:BST
DTSTART:20260329T010000
END:DAYLIGHT
BEGIN:STANDARD
TZOFFSETFROM:+0100
TZOFFSETTO:+0000
TZNAME:GMT
DTSTART:20261025T010000
END:STANDARD
BEGIN:DAYLIGHT
TZOFFSETFROM:+0000
TZOFFSETTO:+0100
TZNAME:BST
DTSTART:20270328T010000
END:DAYLIGHT
BEGIN:STANDARD
TZOFFSETFROM:+0100
TZOFFSETTO:+0000
TZNAME:GMT
DTSTART:20271031T010000
END:STANDARD
END:VTIMEZONE
BEGIN:VEVENT
DTSTART;VALUE=DATE:20260322
DTEND;VALUE=DATE:20260323
DTSTAMP:20260420T201535
CREATED:20231215T000000Z
LAST-MODIFIED:20260420T162226Z
UID:18477-1774137600-1774223999@brainstrust.org.uk
SUMMARY:Reading Half Marathon 2026
DESCRIPTION:Join team brainstrust’s mission to help people with a brain tumour at the well established and supported Reading Half Marathon.  Join 5\,000 runners on the start line for the 43rd Reading Half Marathon. The Reading Half Marathon not only takes in the highlights of the centre of Reading where you will experience huge crowd support but also still passes through the beautiful grounds of the University campus. The race culminates in a finish rarely found outside an Olympic stadium with over 15\,000 people cheering you into the stadium and over the finish line. \nSo whether you run for fun\, run to stay fit\, run for a club\, or run professionally the Reading Half Marathon has the organisational capability\, friendliness and reputation that are all second to none. Deadline for entries is 18th February 2026 so book your place before it is too late. \n \n 
URL:https://brainstrust.org.uk/event/reading-half-marathon-2026/
CATEGORIES:Fundraising Events
ATTACH;FMTTYPE=image/jpeg:https://brainstrust.org.uk/wp-content/uploads/2026/02/sam-cambridge-1.jpg
END:VEVENT
END:VCALENDAR