BEGIN:VCALENDAR
VERSION:2.0
PRODID:-//Brainstrust - ECPv6.15.20//NONSGML v1.0//EN
CALSCALE:GREGORIAN
METHOD:PUBLISH
X-WR-CALNAME:Brainstrust
X-ORIGINAL-URL:https://brainstrust.org.uk
X-WR-CALDESC:Events for Brainstrust
REFRESH-INTERVAL;VALUE=DURATION:PT1H
X-Robots-Tag:noindex
X-PUBLISHED-TTL:PT1H
BEGIN:VTIMEZONE
TZID:Europe/London
BEGIN:DAYLIGHT
TZOFFSETFROM:+0000
TZOFFSETTO:+0100
TZNAME:BST
DTSTART:20250330T010000
END:DAYLIGHT
BEGIN:STANDARD
TZOFFSETFROM:+0100
TZOFFSETTO:+0000
TZNAME:GMT
DTSTART:20251026T010000
END:STANDARD
BEGIN:DAYLIGHT
TZOFFSETFROM:+0000
TZOFFSETTO:+0100
TZNAME:BST
DTSTART:20260329T010000
END:DAYLIGHT
BEGIN:STANDARD
TZOFFSETFROM:+0100
TZOFFSETTO:+0000
TZNAME:GMT
DTSTART:20261025T010000
END:STANDARD
BEGIN:DAYLIGHT
TZOFFSETFROM:+0000
TZOFFSETTO:+0100
TZNAME:BST
DTSTART:20270328T010000
END:DAYLIGHT
BEGIN:STANDARD
TZOFFSETFROM:+0100
TZOFFSETTO:+0000
TZNAME:GMT
DTSTART:20271031T010000
END:STANDARD
END:VTIMEZONE
BEGIN:VEVENT
DTSTART;VALUE=DATE:20261011
DTEND;VALUE=DATE:20261012
DTSTAMP:20260420T200430
CREATED:20250206T000000Z
LAST-MODIFIED:20260420T162332Z
UID:13769-1791676800-1791763199@brainstrust.org.uk
SUMMARY:Oxford Half Marathon 2026
DESCRIPTION:Join team brainstrust’s mission to help people  with a brain tumour at the Oxford Half Marathon. This awesome course is fast and flat\, it proudly guides runners through the pristine and winding streets of Oxford in all its historic delight. The Oxford Half Marathon begins in the centre of the city and winds past  Old Marston village\, the River Cherwell and onto the very impressive Lady Margaret University Hall\, the finish line stands at Parks Rd. Charity runners will be charmed and kept motivated with live music\, local Oxford bands and DJs all along the course.  Deadline for entries is 3rd August 2026.
URL:https://brainstrust.org.uk/event/oxford-half-marathon-2026/
CATEGORIES:Fundraising Events
ATTACH;FMTTYPE=image/jpeg:https://brainstrust.org.uk/wp-content/uploads/2026/02/nuria-cambridge-half-1-of-4-1.jpg
END:VEVENT
END:VCALENDAR