BEGIN:VCALENDAR
VERSION:2.0
PRODID:-//Brainstrust - ECPv6.15.20//NONSGML v1.0//EN
CALSCALE:GREGORIAN
METHOD:PUBLISH
X-WR-CALNAME:Brainstrust
X-ORIGINAL-URL:https://brainstrust.org.uk
X-WR-CALDESC:Events for Brainstrust
REFRESH-INTERVAL;VALUE=DURATION:PT1H
X-Robots-Tag:noindex
X-PUBLISHED-TTL:PT1H
BEGIN:VTIMEZONE
TZID:Europe/London
BEGIN:DAYLIGHT
TZOFFSETFROM:+0000
TZOFFSETTO:+0100
TZNAME:BST
DTSTART:20250330T010000
END:DAYLIGHT
BEGIN:STANDARD
TZOFFSETFROM:+0100
TZOFFSETTO:+0000
TZNAME:GMT
DTSTART:20251026T010000
END:STANDARD
BEGIN:DAYLIGHT
TZOFFSETFROM:+0000
TZOFFSETTO:+0100
TZNAME:BST
DTSTART:20260329T010000
END:DAYLIGHT
BEGIN:STANDARD
TZOFFSETFROM:+0100
TZOFFSETTO:+0000
TZNAME:GMT
DTSTART:20261025T010000
END:STANDARD
BEGIN:DAYLIGHT
TZOFFSETFROM:+0000
TZOFFSETTO:+0100
TZNAME:BST
DTSTART:20270328T010000
END:DAYLIGHT
BEGIN:STANDARD
TZOFFSETFROM:+0100
TZOFFSETTO:+0000
TZNAME:GMT
DTSTART:20271031T010000
END:STANDARD
END:VTIMEZONE
BEGIN:VEVENT
DTSTART;VALUE=DATE:20260412
DTEND;VALUE=DATE:20260413
DTSTAMP:20260420T213614
CREATED:20241122T000000Z
LAST-MODIFIED:20260420T162313Z
UID:13695-1775952000-1776038399@brainstrust.org.uk
SUMMARY:Milan Marathon 2026
DESCRIPTION:Join team brainstrust’s mission to help people with a brain tumour at the fantastic Milan Marathon. A fast and scenic course that runs mostly in the heart of the city\, medal and jersey for all finishers\, plus a state-of-the-art Running Festival that turns into a modern and engaging running fair for three days. The start and finish is in the beautiful setting of Piazza del Duomo and with cheering points along the way that will turn the city into a real party and motivate you along every km of the route. For the 24th edition\, more than 10.000 runners are expected to transform the city into an unforgettable day of celebration on April 12!
URL:https://brainstrust.org.uk/event/milan-marathon-2026/
CATEGORIES:Fundraising Events
ATTACH;FMTTYPE=image/jpeg:https://brainstrust.org.uk/wp-content/uploads/2026/02/jess-london-landmarks-2025-3-scaled-1.jpeg
END:VEVENT
END:VCALENDAR