BEGIN:VCALENDAR
VERSION:2.0
PRODID:-//Brainstrust - ECPv6.15.20//NONSGML v1.0//EN
CALSCALE:GREGORIAN
METHOD:PUBLISH
X-WR-CALNAME:Brainstrust
X-ORIGINAL-URL:https://brainstrust.org.uk
X-WR-CALDESC:Events for Brainstrust
REFRESH-INTERVAL;VALUE=DURATION:PT1H
X-Robots-Tag:noindex
X-PUBLISHED-TTL:PT1H
BEGIN:VTIMEZONE
TZID:Europe/London
BEGIN:DAYLIGHT
TZOFFSETFROM:+0000
TZOFFSETTO:+0100
TZNAME:BST
DTSTART:20250330T010000
END:DAYLIGHT
BEGIN:STANDARD
TZOFFSETFROM:+0100
TZOFFSETTO:+0000
TZNAME:GMT
DTSTART:20251026T010000
END:STANDARD
BEGIN:DAYLIGHT
TZOFFSETFROM:+0000
TZOFFSETTO:+0100
TZNAME:BST
DTSTART:20260329T010000
END:DAYLIGHT
BEGIN:STANDARD
TZOFFSETFROM:+0100
TZOFFSETTO:+0000
TZNAME:GMT
DTSTART:20261025T010000
END:STANDARD
BEGIN:DAYLIGHT
TZOFFSETFROM:+0000
TZOFFSETTO:+0100
TZNAME:BST
DTSTART:20270328T010000
END:DAYLIGHT
BEGIN:STANDARD
TZOFFSETFROM:+0100
TZOFFSETTO:+0000
TZNAME:GMT
DTSTART:20271031T010000
END:STANDARD
END:VTIMEZONE
BEGIN:VEVENT
DTSTART;VALUE=DATE:20261011
DTEND;VALUE=DATE:20261012
DTSTAMP:20260420T200441
CREATED:20250205T000000Z
LAST-MODIFIED:20260420T162332Z
UID:13768-1791676800-1791763199@brainstrust.org.uk
SUMMARY:MBNA Chester Marathon 2026
DESCRIPTION:Join brainstrust’s mission to help people with brain tumours at the MBNA Chester Marathon. Get involved in the award-winning marathon set in the historic Roman Medieval destination\, the great city of Chester. The event organisers pride themselves on being runners themselves and have designed a route that spans the largely flat stunning city as well as the beautiful countryside. Combine this fast route combined with enthusiastic support from the ever so friendly locals and hydration/refreshment stations and it makes an unforgettable event. Alongside your charity\, the event organisers offer support in the form of monthly training sessions & seminars. \nThe Chester Marathon is famous for being an enjoyable event and has won many awards over the years including the Runner’s World best marathon of the year and sweatshop’s best mass participation award.  The deadline for entries is 1st September 2026.
URL:https://brainstrust.org.uk/event/mbna-chester-marathon-2026/
CATEGORIES:Fundraising Events
ATTACH;FMTTYPE=image/jpeg:https://brainstrust.org.uk/wp-content/uploads/2026/02/manchester-run.jpg
END:VEVENT
END:VCALENDAR