BEGIN:VCALENDAR
VERSION:2.0
PRODID:-//Brainstrust - ECPv6.15.20//NONSGML v1.0//EN
CALSCALE:GREGORIAN
METHOD:PUBLISH
X-WR-CALNAME:Brainstrust
X-ORIGINAL-URL:https://brainstrust.org.uk
X-WR-CALDESC:Events for Brainstrust
REFRESH-INTERVAL;VALUE=DURATION:PT1H
X-Robots-Tag:noindex
X-PUBLISHED-TTL:PT1H
BEGIN:VTIMEZONE
TZID:Europe/London
BEGIN:DAYLIGHT
TZOFFSETFROM:+0000
TZOFFSETTO:+0100
TZNAME:BST
DTSTART:20250330T010000
END:DAYLIGHT
BEGIN:STANDARD
TZOFFSETFROM:+0100
TZOFFSETTO:+0000
TZNAME:GMT
DTSTART:20251026T010000
END:STANDARD
BEGIN:DAYLIGHT
TZOFFSETFROM:+0000
TZOFFSETTO:+0100
TZNAME:BST
DTSTART:20260329T010000
END:DAYLIGHT
BEGIN:STANDARD
TZOFFSETFROM:+0100
TZOFFSETTO:+0000
TZNAME:GMT
DTSTART:20261025T010000
END:STANDARD
BEGIN:DAYLIGHT
TZOFFSETFROM:+0000
TZOFFSETTO:+0100
TZNAME:BST
DTSTART:20270328T010000
END:DAYLIGHT
BEGIN:STANDARD
TZOFFSETFROM:+0100
TZOFFSETTO:+0000
TZNAME:GMT
DTSTART:20271031T010000
END:STANDARD
END:VTIMEZONE
BEGIN:VEVENT
DTSTART;VALUE=DATE:20260320
DTEND;VALUE=DATE:20260321
DTSTAMP:20260420T202912
CREATED:20260306T141436Z
LAST-MODIFIED:20260306T142145Z
UID:21871-1773964800-1774051199@brainstrust.org.uk
SUMMARY:Living with metastatic brain cancer? – Fri 20th March 15.00
DESCRIPTION:Join us for a virtual event where we share stories\, support\, and resources for those of you who are living with metastatic brain cancer.\n\n\n\nLiving with metastatic brain cancer? \nWelcome to our online event where we come together to share stories\, offer support\, and provide resources for those living with metastatic brain cancer. Join us for informative discussions\, Q&A sessions with experts\, and connect with others who understand what you’re going through. Whether you’re a patient or a caregiver\, let’s navigate this journey together.
URL:https://brainstrust.org.uk/event/living-with-metastatic-brain-cancer-fri-20th-march-15-00/
CATEGORIES:Patient & Caregiver Events
ATTACH;FMTTYPE=image/png:https://brainstrust.org.uk/wp-content/uploads/2026/02/7a1oedzk-2.png
END:VEVENT
END:VCALENDAR