BEGIN:VCALENDAR
VERSION:2.0
PRODID:-//Brainstrust - ECPv6.15.20//NONSGML v1.0//EN
CALSCALE:GREGORIAN
METHOD:PUBLISH
X-WR-CALNAME:Brainstrust
X-ORIGINAL-URL:https://brainstrust.org.uk
X-WR-CALDESC:Events for Brainstrust
REFRESH-INTERVAL;VALUE=DURATION:PT1H
X-Robots-Tag:noindex
X-PUBLISHED-TTL:PT1H
BEGIN:VTIMEZONE
TZID:Europe/London
BEGIN:DAYLIGHT
TZOFFSETFROM:+0000
TZOFFSETTO:+0100
TZNAME:BST
DTSTART:20250330T010000
END:DAYLIGHT
BEGIN:STANDARD
TZOFFSETFROM:+0100
TZOFFSETTO:+0000
TZNAME:GMT
DTSTART:20251026T010000
END:STANDARD
BEGIN:DAYLIGHT
TZOFFSETFROM:+0000
TZOFFSETTO:+0100
TZNAME:BST
DTSTART:20260329T010000
END:DAYLIGHT
BEGIN:STANDARD
TZOFFSETFROM:+0100
TZOFFSETTO:+0000
TZNAME:GMT
DTSTART:20261025T010000
END:STANDARD
BEGIN:DAYLIGHT
TZOFFSETFROM:+0000
TZOFFSETTO:+0100
TZNAME:BST
DTSTART:20270328T010000
END:DAYLIGHT
BEGIN:STANDARD
TZOFFSETFROM:+0100
TZOFFSETTO:+0000
TZNAME:GMT
DTSTART:20271031T010000
END:STANDARD
END:VTIMEZONE
BEGIN:VEVENT
DTSTART;VALUE=DATE:20260607
DTEND;VALUE=DATE:20260608
DTSTAMP:20260420T200939
CREATED:20251209T000000Z
LAST-MODIFIED:20260420T162419Z
UID:13954-1780876799-1780876799@brainstrust.org.uk
SUMMARY:Leeds Running Festival 5k/10k/Half - June 2026
DESCRIPTION:Join Team Brainstrust’s mission to help those with a brain tumour at the Leeds Running Festival in June 2026. Join us for a unique opportunity to run a 5k\, 10k or Half Marathon around Roundhay Park in Leeds\, one of the biggest city parks in Europe. Each Mile will be accurately marked out and we have plenty of helpers to keep you quite literally on track and encourage you on your way to the finish. Included in your entry fee is a themed medal\, water and post race goodies. Come and enjoy the day with us; we hope to see you there! The deadline for entries is 18th May 2026.  Book now or miss out!
URL:https://brainstrust.org.uk/event/leeds-running-festival-5k-10k-half-june-2026/
CATEGORIES:Fundraising Events
ATTACH;FMTTYPE=image/jpeg:https://brainstrust.org.uk/wp-content/uploads/2026/02/anna-at-reading-half-2025.jpg
END:VEVENT
END:VCALENDAR