BEGIN:VCALENDAR
VERSION:2.0
PRODID:-//Brainstrust - ECPv6.15.20//NONSGML v1.0//EN
CALSCALE:GREGORIAN
METHOD:PUBLISH
X-WR-CALNAME:Brainstrust
X-ORIGINAL-URL:https://brainstrust.org.uk
X-WR-CALDESC:Events for Brainstrust
REFRESH-INTERVAL;VALUE=DURATION:PT1H
X-Robots-Tag:noindex
X-PUBLISHED-TTL:PT1H
BEGIN:VTIMEZONE
TZID:Europe/London
BEGIN:DAYLIGHT
TZOFFSETFROM:+0000
TZOFFSETTO:+0100
TZNAME:BST
DTSTART:20250330T010000
END:DAYLIGHT
BEGIN:STANDARD
TZOFFSETFROM:+0100
TZOFFSETTO:+0000
TZNAME:GMT
DTSTART:20251026T010000
END:STANDARD
BEGIN:DAYLIGHT
TZOFFSETFROM:+0000
TZOFFSETTO:+0100
TZNAME:BST
DTSTART:20260329T010000
END:DAYLIGHT
BEGIN:STANDARD
TZOFFSETFROM:+0100
TZOFFSETTO:+0000
TZNAME:GMT
DTSTART:20261025T010000
END:STANDARD
BEGIN:DAYLIGHT
TZOFFSETFROM:+0000
TZOFFSETTO:+0100
TZNAME:BST
DTSTART:20270328T010000
END:DAYLIGHT
BEGIN:STANDARD
TZOFFSETFROM:+0100
TZOFFSETTO:+0000
TZNAME:GMT
DTSTART:20271031T010000
END:STANDARD
END:VTIMEZONE
BEGIN:VEVENT
DTSTART;VALUE=DATE:20260830
DTEND;VALUE=DATE:20260831
DTSTAMP:20260420T200837
CREATED:20250206T000000Z
LAST-MODIFIED:20260420T162333Z
UID:13775-1788048000-1788134399@brainstrust.org.uk
SUMMARY:Leeds Running Festival - 5k /10k / Half 2026
DESCRIPTION:Join team brainstrust’s mission to help people with a brain tumour at the Leeds Running Festival. Join us for a unique opportunity to run a 5k\, 10k or Half Marathon around Roundhay Park in Leeds\, one of the biggest city parks in Europe. Each Mile will be accurately marked out and we have plenty of helpers to keep you quite literally on track and encourage you on your way to the finish. Included in your entry fee is a themed medal\, water and post race goodies. Come and enjoy the day with us; we hope to see you there! Deadline for entries is 10th August 2026.
URL:https://brainstrust.org.uk/event/leeds-running-festival-5k-10k-half-2026/
CATEGORIES:Fundraising Events
ATTACH;FMTTYPE=image/jpeg:https://brainstrust.org.uk/wp-content/uploads/2026/02/anna-at-reading-half-2025.jpg
END:VEVENT
END:VCALENDAR