BEGIN:VCALENDAR
VERSION:2.0
PRODID:-//Brainstrust - ECPv6.15.20//NONSGML v1.0//EN
CALSCALE:GREGORIAN
METHOD:PUBLISH
X-WR-CALNAME:Brainstrust
X-ORIGINAL-URL:https://brainstrust.org.uk
X-WR-CALDESC:Events for Brainstrust
REFRESH-INTERVAL;VALUE=DURATION:PT1H
X-Robots-Tag:noindex
X-PUBLISHED-TTL:PT1H
BEGIN:VTIMEZONE
TZID:Europe/London
BEGIN:DAYLIGHT
TZOFFSETFROM:+0000
TZOFFSETTO:+0100
TZNAME:BST
DTSTART:20250330T010000
END:DAYLIGHT
BEGIN:STANDARD
TZOFFSETFROM:+0100
TZOFFSETTO:+0000
TZNAME:GMT
DTSTART:20251026T010000
END:STANDARD
BEGIN:DAYLIGHT
TZOFFSETFROM:+0000
TZOFFSETTO:+0100
TZNAME:BST
DTSTART:20260329T010000
END:DAYLIGHT
BEGIN:STANDARD
TZOFFSETFROM:+0100
TZOFFSETTO:+0000
TZNAME:GMT
DTSTART:20261025T010000
END:STANDARD
BEGIN:DAYLIGHT
TZOFFSETFROM:+0000
TZOFFSETTO:+0100
TZNAME:BST
DTSTART:20270328T010000
END:DAYLIGHT
BEGIN:STANDARD
TZOFFSETFROM:+0100
TZOFFSETTO:+0000
TZNAME:GMT
DTSTART:20271031T010000
END:STANDARD
END:VTIMEZONE
BEGIN:VEVENT
DTSTART;VALUE=DATE:20260510
DTEND;VALUE=DATE:20260511
DTSTAMP:20260420T184643
CREATED:20231215T000000Z
LAST-MODIFIED:20260420T162227Z
UID:13514-1778371200-1778457599@brainstrust.org.uk
SUMMARY:Leeds Marathon 2026
DESCRIPTION:Join team brainstrust’s mission to help people with a brain tumour at the Rob Burrows Leeds Marathon. The Rob Burrow Leeds Marathon will see 7\,777 participants take on a brand new route through Leeds that starts and finishes at Headingley Stadium.  This is an event that truly is for everyone\, so whether you are an experienced runner or have never thought about running an event before\, we welcome all abilities to join us in 2026 for this very special event. Registration closes on the 4th April for this sell out event. \n \n \n  \n 
URL:https://brainstrust.org.uk/event/leeds-marathon-2026/
CATEGORIES:Fundraising Events
ATTACH;FMTTYPE=image/png:https://brainstrust.org.uk/wp-content/uploads/2026/02/leeds-marathon-e1702644882305.png
END:VEVENT
END:VCALENDAR