BEGIN:VCALENDAR
VERSION:2.0
PRODID:-//Brainstrust - ECPv6.15.20//NONSGML v1.0//EN
CALSCALE:GREGORIAN
METHOD:PUBLISH
X-WR-CALNAME:Brainstrust
X-ORIGINAL-URL:https://brainstrust.org.uk
X-WR-CALDESC:Events for Brainstrust
REFRESH-INTERVAL;VALUE=DURATION:PT1H
X-Robots-Tag:noindex
X-PUBLISHED-TTL:PT1H
BEGIN:VTIMEZONE
TZID:Europe/London
BEGIN:DAYLIGHT
TZOFFSETFROM:+0000
TZOFFSETTO:+0100
TZNAME:BST
DTSTART:20250330T010000
END:DAYLIGHT
BEGIN:STANDARD
TZOFFSETFROM:+0100
TZOFFSETTO:+0000
TZNAME:GMT
DTSTART:20251026T010000
END:STANDARD
BEGIN:DAYLIGHT
TZOFFSETFROM:+0000
TZOFFSETTO:+0100
TZNAME:BST
DTSTART:20260329T010000
END:DAYLIGHT
BEGIN:STANDARD
TZOFFSETFROM:+0100
TZOFFSETTO:+0000
TZNAME:GMT
DTSTART:20261025T010000
END:STANDARD
BEGIN:DAYLIGHT
TZOFFSETFROM:+0000
TZOFFSETTO:+0100
TZNAME:BST
DTSTART:20270328T010000
END:DAYLIGHT
BEGIN:STANDARD
TZOFFSETFROM:+0100
TZOFFSETTO:+0000
TZNAME:GMT
DTSTART:20271031T010000
END:STANDARD
END:VTIMEZONE
BEGIN:VEVENT
DTSTART;VALUE=DATE:20260510
DTEND;VALUE=DATE:20260511
DTSTAMP:20260420T184748
CREATED:20231215T000000Z
LAST-MODIFIED:20260420T162227Z
UID:13513-1778371200-1778457599@brainstrust.org.uk
SUMMARY:Leeds Half Marathon 2026
DESCRIPTION:Join team brainstrust’s mission to help people with a brain tumour at Leeds Half Marathon\, Yorkshire’s biggest and loudest event.  With a fantastically vibrant atmosphere guaranteed\, this run could be right up your street. The much-loved run raises hundreds of thousands of pounds for charity every year and often attracts more than 7\,500 runners. The race starts and finishes at Headingley Stadium. This event sells out each year so book your place today. Registration closes on 30th April 2026.
URL:https://brainstrust.org.uk/event/leeds-half-marathon-2026/
CATEGORIES:Fundraising Events
ATTACH;FMTTYPE=image/jpeg:https://brainstrust.org.uk/wp-content/uploads/2026/02/emily-london-landmarks-running-pic.jpeg
END:VEVENT
END:VCALENDAR