BEGIN:VCALENDAR
VERSION:2.0
PRODID:-//Brainstrust - ECPv6.15.20//NONSGML v1.0//EN
CALSCALE:GREGORIAN
METHOD:PUBLISH
X-WR-CALNAME:Brainstrust
X-ORIGINAL-URL:https://brainstrust.org.uk
X-WR-CALDESC:Events for Brainstrust
REFRESH-INTERVAL;VALUE=DURATION:PT1H
X-Robots-Tag:noindex
X-PUBLISHED-TTL:PT1H
BEGIN:VTIMEZONE
TZID:Europe/London
BEGIN:DAYLIGHT
TZOFFSETFROM:+0000
TZOFFSETTO:+0100
TZNAME:BST
DTSTART:20250330T010000
END:DAYLIGHT
BEGIN:STANDARD
TZOFFSETFROM:+0100
TZOFFSETTO:+0000
TZNAME:GMT
DTSTART:20251026T010000
END:STANDARD
BEGIN:DAYLIGHT
TZOFFSETFROM:+0000
TZOFFSETTO:+0100
TZNAME:BST
DTSTART:20260329T010000
END:DAYLIGHT
BEGIN:STANDARD
TZOFFSETFROM:+0100
TZOFFSETTO:+0000
TZNAME:GMT
DTSTART:20261025T010000
END:STANDARD
BEGIN:DAYLIGHT
TZOFFSETFROM:+0000
TZOFFSETTO:+0100
TZNAME:BST
DTSTART:20270328T010000
END:DAYLIGHT
BEGIN:STANDARD
TZOFFSETFROM:+0100
TZOFFSETTO:+0000
TZNAME:GMT
DTSTART:20271031T010000
END:STANDARD
END:VTIMEZONE
BEGIN:VEVENT
DTSTART;VALUE=DATE:20260517
DTEND;VALUE=DATE:20260518
DTSTAMP:20260420T185304
CREATED:20260220T000000Z
LAST-MODIFIED:20260420T162431Z
UID:13997-1778976000-1779062399@brainstrust.org.uk
SUMMARY:Lark Rise Bike Ride 2026
DESCRIPTION:Join Us for this years Lark Rise Bike Ride: A Fantastic Day for All\nGet ready for another incredible Lark Rise Bike Ride! A fun\, family-friendly event\, this ride takes you through the stunning historic landscape that inspired Flora Thompson’s Lark Rise to Candleford. \nWith three route options to choose from\, there’s something for everyone!  Whether you’re looking for a relaxed ride or a real off-road challenge. The event starts and finishes at Castle Field\, Mixbury\, NN13 5RG (it’s best to use what3words spearing.myself.ribcage)\, with refreshment stops along the way and a BBQ fundraiser waiting for you at the finish line. \n  \nCheck-In & Start Times \n\nShort route (approx. 14 miles): 9:00 am – 10:00 am (ideal for families)\nMedium route (approx. 25 miles): 8:30 am – 10:00 am\nLong route (approx. 40 miles): 8:30 am – 9:30 am latest (for experienced riders)\n\nEnjoy a ride through scenic country lanes\, ancient tracks\, and bridleways\, passing through beautiful parkland and rolling fields. The long route even takes you along the edge of Silverstone race track before heading through the breath-taking Stowe Estate. \nTicket Options:\n\nFree Fundraiser Entry: Commit to fundraising for brainstrust and ride for free! (If your target isn’t met\, an entry fee will be required on the day). Click here to get your free fundraiser ticket.\nPaid Entry: Prefer to ride without fundraising? 100% of your entry fee goes to brainstrust. Click here to get your paid entry ticket.\n\n\nChris Swallow\, the event organiser\, would like to extend his heartfelt thanks to the following incredibly generous people\, without whom this event would not be possible: \n\nAnna and the staff at Swallows Nursery and Plant Centre\nSue Cook and Three T Watersports Witney\nLynn Fox\, Resus Plus First Aid Training\nBrackley Community First Responders\nThe Lark Rise Team and the people of Mixbury\, whose unwavering support each year makes this event possible.\n\nFor more information about the rides or to offer your help\, you can contact Chris at 07913 973180. \n\nImportant Notes: \n\nRiders aged 14 and under must be accompanied by a responsible adult.\nParking is available on-site at Castle Field\, Mixbury\, NN13 5RG (it’s best to use what3words spearing.myself.ribcage)\nServices stand down at 4pm.\n\nJoin us for an unforgettable day of cycling\, fresh air\, and great company\, all while supporting a vital cause.\nWe can’t wait to see you there!
URL:https://brainstrust.org.uk/event/lark-rise-bike-ride-2026/
CATEGORIES:Fundraising Events
ATTACH;FMTTYPE=image/jpeg:https://brainstrust.org.uk/wp-content/uploads/2026/02/lark-rise-2026-instagram-story-e1771585163363.jpg
END:VEVENT
END:VCALENDAR