BEGIN:VCALENDAR
VERSION:2.0
PRODID:-//Brainstrust - ECPv6.15.20//NONSGML v1.0//EN
CALSCALE:GREGORIAN
METHOD:PUBLISH
X-WR-CALNAME:Brainstrust
X-ORIGINAL-URL:https://brainstrust.org.uk
X-WR-CALDESC:Events for Brainstrust
REFRESH-INTERVAL;VALUE=DURATION:PT1H
X-Robots-Tag:noindex
X-PUBLISHED-TTL:PT1H
BEGIN:VTIMEZONE
TZID:Europe/London
BEGIN:DAYLIGHT
TZOFFSETFROM:+0000
TZOFFSETTO:+0100
TZNAME:BST
DTSTART:20250330T010000
END:DAYLIGHT
BEGIN:STANDARD
TZOFFSETFROM:+0100
TZOFFSETTO:+0000
TZNAME:GMT
DTSTART:20251026T010000
END:STANDARD
BEGIN:DAYLIGHT
TZOFFSETFROM:+0000
TZOFFSETTO:+0100
TZNAME:BST
DTSTART:20260329T010000
END:DAYLIGHT
BEGIN:STANDARD
TZOFFSETFROM:+0100
TZOFFSETTO:+0000
TZNAME:GMT
DTSTART:20261025T010000
END:STANDARD
BEGIN:DAYLIGHT
TZOFFSETFROM:+0000
TZOFFSETTO:+0100
TZNAME:BST
DTSTART:20270328T010000
END:DAYLIGHT
BEGIN:STANDARD
TZOFFSETFROM:+0100
TZOFFSETTO:+0000
TZNAME:GMT
DTSTART:20271031T010000
END:STANDARD
END:VTIMEZONE
BEGIN:VEVENT
DTSTART;VALUE=DATE:20260304
DTEND;VALUE=DATE:20260305
DTSTAMP:20260421T015350
CREATED:20260226T000000Z
LAST-MODIFIED:20260420T162434Z
UID:14000-1772668799-1772668799@brainstrust.org.uk
SUMMARY:Introduction to Neuroscience-Informed Hypnotherapy - Weds 4th March 14.00
DESCRIPTION:Join this session to find out more about hypnotherapy and an introduction to strategies to support you when living with a brain tumour. \n\nCurious about how your brain can support your well-being? \nThis session introduces the science of neuroplasticity and how hypnotherapy can ease discomfort\, lift mood\, and reduce anxiety. Designed for people living with brain tumours and those who care for them\, the session also explores psycho-sensory techniques—simple tools you can use any time you feel overwhelmed or off-centre. \nThis session is for people who are new to brainstrust online hypnotherapy sessions. \nYou will be asked to have your camera on\, to have access to a chair or bed\, and be free from distractions. \nOur sessions are open to brain tumour patients and caregivers only and spaces are limited and all expertly led by Louise Baker. \n 
URL:https://brainstrust.org.uk/event/introduction-to-neuroscience-informed-hypnotherapy-weds-4th-march-14-00/
CATEGORIES:Patient & Caregiver Events
ATTACH;FMTTYPE=image/avif:https://brainstrust.org.uk/wp-content/uploads/2026/02/https___cdn.evbuc_.com_images_1053843133_2743803556101_1_original-1-2.avif
END:VEVENT
END:VCALENDAR