BEGIN:VCALENDAR
VERSION:2.0
PRODID:-//Brainstrust - ECPv6.15.20//NONSGML v1.0//EN
CALSCALE:GREGORIAN
METHOD:PUBLISH
X-WR-CALNAME:Brainstrust
X-ORIGINAL-URL:https://brainstrust.org.uk
X-WR-CALDESC:Events for Brainstrust
REFRESH-INTERVAL;VALUE=DURATION:PT1H
X-Robots-Tag:noindex
X-PUBLISHED-TTL:PT1H
BEGIN:VTIMEZONE
TZID:Europe/London
BEGIN:DAYLIGHT
TZOFFSETFROM:+0000
TZOFFSETTO:+0100
TZNAME:BST
DTSTART:20250330T010000
END:DAYLIGHT
BEGIN:STANDARD
TZOFFSETFROM:+0100
TZOFFSETTO:+0000
TZNAME:GMT
DTSTART:20251026T010000
END:STANDARD
BEGIN:DAYLIGHT
TZOFFSETFROM:+0000
TZOFFSETTO:+0100
TZNAME:BST
DTSTART:20260329T010000
END:DAYLIGHT
BEGIN:STANDARD
TZOFFSETFROM:+0100
TZOFFSETTO:+0000
TZNAME:GMT
DTSTART:20261025T010000
END:STANDARD
BEGIN:DAYLIGHT
TZOFFSETFROM:+0000
TZOFFSETTO:+0100
TZNAME:BST
DTSTART:20270328T010000
END:DAYLIGHT
BEGIN:STANDARD
TZOFFSETFROM:+0100
TZOFFSETTO:+0000
TZNAME:GMT
DTSTART:20271031T010000
END:STANDARD
END:VTIMEZONE
BEGIN:VEVENT
DTSTART;VALUE=DATE:20260319
DTEND;VALUE=DATE:20260320
DTSTAMP:20260420T213640
CREATED:20260306T141441Z
LAST-MODIFIED:20260316T173043Z
UID:21868-1773878400-1773964799@brainstrust.org.uk
SUMMARY:Introduction to Creative Writing for brain tumour patients & caregivers – Thurs 19th March 11.00am
DESCRIPTION:Discover writing for pleasure\, when writing might support us personally\, and where it can bring a sense of solidarity\, purpose or hope. \nThis is an opportunity for brain tumour patients & caregivers to put down a few words here or there. \nThis gentle and paced introduction to writing will cover why we might write\, the stories we might want to write or tell\, and the evidence that writing might be good for our wellbeing. There will be a couple of gentle writing prompts. You can participate on your terms\, writing only if you feel like it\, and as and when feels comfortable.
URL:https://brainstrust.org.uk/event/introduction-to-creative-writing-for-brain-tumour-patients-carers-thurs-19th-march-11-00am/
CATEGORIES:Patient & Caregiver Events
ATTACH;FMTTYPE=image/avif:https://brainstrust.org.uk/wp-content/uploads/2026/03/https___cdn.evbuc_.com_images_825068079_686109380_1_original-1024x1024-1.avif
END:VEVENT
END:VCALENDAR