BEGIN:VCALENDAR
VERSION:2.0
PRODID:-//Brainstrust - ECPv6.15.20//NONSGML v1.0//EN
CALSCALE:GREGORIAN
METHOD:PUBLISH
X-WR-CALNAME:Brainstrust
X-ORIGINAL-URL:https://brainstrust.org.uk
X-WR-CALDESC:Events for Brainstrust
REFRESH-INTERVAL;VALUE=DURATION:PT1H
X-Robots-Tag:noindex
X-PUBLISHED-TTL:PT1H
BEGIN:VTIMEZONE
TZID:Europe/London
BEGIN:DAYLIGHT
TZOFFSETFROM:+0000
TZOFFSETTO:+0100
TZNAME:BST
DTSTART:20250330T010000
END:DAYLIGHT
BEGIN:STANDARD
TZOFFSETFROM:+0100
TZOFFSETTO:+0000
TZNAME:GMT
DTSTART:20251026T010000
END:STANDARD
BEGIN:DAYLIGHT
TZOFFSETFROM:+0000
TZOFFSETTO:+0100
TZNAME:BST
DTSTART:20260329T010000
END:DAYLIGHT
BEGIN:STANDARD
TZOFFSETFROM:+0100
TZOFFSETTO:+0000
TZNAME:GMT
DTSTART:20261025T010000
END:STANDARD
BEGIN:DAYLIGHT
TZOFFSETFROM:+0000
TZOFFSETTO:+0100
TZNAME:BST
DTSTART:20270328T010000
END:DAYLIGHT
BEGIN:STANDARD
TZOFFSETFROM:+0100
TZOFFSETTO:+0000
TZNAME:GMT
DTSTART:20271031T010000
END:STANDARD
END:VTIMEZONE
BEGIN:VEVENT
DTSTART;TZID=Europe/London:20260429T190000
DTEND;TZID=Europe/London:20260429T200000
DTSTAMP:20260420T185508
CREATED:20260415T142750Z
LAST-MODIFIED:20260415T142750Z
UID:30268-1777489200-1777492800@brainstrust.org.uk
SUMMARY:Hypnotherapy for Calmness and Confidence for Procedures – Hypnotherapy Session – Weds 29th April 19.00
DESCRIPTION:Face scans and procedures with calmness and confidence. \nMedical procedures such as scans\, treatments and hospital visits can trigger strong anticipatory responses in the brain. Even when we understand the purpose of a procedure\, the brain may still respond with fear\, muscle tension and heightened alertness. \n\n\nThis session focuses on preparing both mind and body for medical procedures.
URL:https://brainstrust.org.uk/event/hypnotherapy-for-calmness-and-confidence-for-procedures-hypnotherapy-session-weds-29th-april-19-00/
CATEGORIES:Patient & Caregiver Events
ATTACH;FMTTYPE=image/avif:https://brainstrust.org.uk/wp-content/uploads/2026/02/https___cdn.evbuc_.com_images_1038908933_2743803556101_1_original-6.avif
END:VEVENT
END:VCALENDAR