BEGIN:VCALENDAR
VERSION:2.0
PRODID:-//Brainstrust - ECPv6.15.20//NONSGML v1.0//EN
CALSCALE:GREGORIAN
METHOD:PUBLISH
X-WR-CALNAME:Brainstrust
X-ORIGINAL-URL:https://brainstrust.org.uk
X-WR-CALDESC:Events for Brainstrust
REFRESH-INTERVAL;VALUE=DURATION:PT1H
X-Robots-Tag:noindex
X-PUBLISHED-TTL:PT1H
BEGIN:VTIMEZONE
TZID:Europe/London
BEGIN:DAYLIGHT
TZOFFSETFROM:+0000
TZOFFSETTO:+0100
TZNAME:BST
DTSTART:20250330T010000
END:DAYLIGHT
BEGIN:STANDARD
TZOFFSETFROM:+0100
TZOFFSETTO:+0000
TZNAME:GMT
DTSTART:20251026T010000
END:STANDARD
BEGIN:DAYLIGHT
TZOFFSETFROM:+0000
TZOFFSETTO:+0100
TZNAME:BST
DTSTART:20260329T010000
END:DAYLIGHT
BEGIN:STANDARD
TZOFFSETFROM:+0100
TZOFFSETTO:+0000
TZNAME:GMT
DTSTART:20261025T010000
END:STANDARD
BEGIN:DAYLIGHT
TZOFFSETFROM:+0000
TZOFFSETTO:+0100
TZNAME:BST
DTSTART:20270328T010000
END:DAYLIGHT
BEGIN:STANDARD
TZOFFSETFROM:+0100
TZOFFSETTO:+0000
TZNAME:GMT
DTSTART:20271031T010000
END:STANDARD
END:VTIMEZONE
BEGIN:VEVENT
DTSTART;VALUE=DATE:20260305
DTEND;VALUE=DATE:20260306
DTSTAMP:20260420T213622
CREATED:20260226T000000Z
LAST-MODIFIED:20260420T162434Z
UID:14001-1772755199-1772755199@brainstrust.org.uk
SUMMARY:High Grade Brain Tumour Community - Thurs 5th March 13.00
DESCRIPTION:Living with a high grade (grade 3 or 4) brain tumour can feel isolating. This online group offers a supportive space to those who understand\n\n\n\nThis informal online group is for people living with a high grade (grade 3 or 4) brain tumour diagnosis – and their supporters. \nThere’s no set agenda and no pressure to talk. Just join us for a relaxed space to connect with others who truly understand what you’re going through. Whether you feel like sharing or simply listening\, you’re welcome.
URL:https://brainstrust.org.uk/event/high-grade-brain-tumour-community-thurs-5th-march-13-00/
CATEGORIES:Patient & Caregiver Events
ATTACH;FMTTYPE=image/avif:https://brainstrust.org.uk/wp-content/uploads/2026/02/https___cdn.evbuc_.com_images_1048935003_2743803556101_1_original-1-1.avif
END:VEVENT
END:VCALENDAR