BEGIN:VCALENDAR
VERSION:2.0
PRODID:-//Brainstrust - ECPv6.15.20//NONSGML v1.0//EN
CALSCALE:GREGORIAN
METHOD:PUBLISH
X-WR-CALNAME:Brainstrust
X-ORIGINAL-URL:https://brainstrust.org.uk
X-WR-CALDESC:Events for Brainstrust
REFRESH-INTERVAL;VALUE=DURATION:PT1H
X-Robots-Tag:noindex
X-PUBLISHED-TTL:PT1H
BEGIN:VTIMEZONE
TZID:Europe/London
BEGIN:DAYLIGHT
TZOFFSETFROM:+0000
TZOFFSETTO:+0100
TZNAME:BST
DTSTART:20250330T010000
END:DAYLIGHT
BEGIN:STANDARD
TZOFFSETFROM:+0100
TZOFFSETTO:+0000
TZNAME:GMT
DTSTART:20251026T010000
END:STANDARD
BEGIN:DAYLIGHT
TZOFFSETFROM:+0000
TZOFFSETTO:+0100
TZNAME:BST
DTSTART:20260329T010000
END:DAYLIGHT
BEGIN:STANDARD
TZOFFSETFROM:+0100
TZOFFSETTO:+0000
TZNAME:GMT
DTSTART:20261025T010000
END:STANDARD
BEGIN:DAYLIGHT
TZOFFSETFROM:+0000
TZOFFSETTO:+0100
TZNAME:BST
DTSTART:20270328T010000
END:DAYLIGHT
BEGIN:STANDARD
TZOFFSETFROM:+0100
TZOFFSETTO:+0000
TZNAME:GMT
DTSTART:20271031T010000
END:STANDARD
END:VTIMEZONE
BEGIN:VEVENT
DTSTART;VALUE=DATE:20260517
DTEND;VALUE=DATE:20260518
DTSTAMP:20260420T184800
CREATED:20231215T000000Z
LAST-MODIFIED:20260420T162227Z
UID:13516-1779062399-1779062399@brainstrust.org.uk
SUMMARY:Hackney Half Marathon - Waiting List 2026
DESCRIPTION:Join team brainstrust’s mission to help people with a brain tumour at this fast\, flat\, PB potential half marathon. The Hackney Half sells out every year and is renowned for its festival atmosphere and fantastic crowd support.  There will be entertainment stations along the route and a festival village for you to enjoy post race. Registration has closed but a waiting list has now been set up and places are now available. \n \n  \n 
URL:https://brainstrust.org.uk/event/hackney-half-marathon-waiting-list-2026/
CATEGORIES:Fundraising Events
ATTACH;FMTTYPE=image/png:https://brainstrust.org.uk/wp-content/uploads/2026/02/hackney-half-e1702647236894.png
END:VEVENT
END:VCALENDAR