BEGIN:VCALENDAR
VERSION:2.0
PRODID:-//Brainstrust - ECPv6.15.20//NONSGML v1.0//EN
CALSCALE:GREGORIAN
METHOD:PUBLISH
X-WR-CALNAME:Brainstrust
X-ORIGINAL-URL:https://brainstrust.org.uk
X-WR-CALDESC:Events for Brainstrust
REFRESH-INTERVAL;VALUE=DURATION:PT1H
X-Robots-Tag:noindex
X-PUBLISHED-TTL:PT1H
BEGIN:VTIMEZONE
TZID:Europe/London
BEGIN:DAYLIGHT
TZOFFSETFROM:+0000
TZOFFSETTO:+0100
TZNAME:BST
DTSTART:20250330T010000
END:DAYLIGHT
BEGIN:STANDARD
TZOFFSETFROM:+0100
TZOFFSETTO:+0000
TZNAME:GMT
DTSTART:20251026T010000
END:STANDARD
BEGIN:DAYLIGHT
TZOFFSETFROM:+0000
TZOFFSETTO:+0100
TZNAME:BST
DTSTART:20260329T010000
END:DAYLIGHT
BEGIN:STANDARD
TZOFFSETFROM:+0100
TZOFFSETTO:+0000
TZNAME:GMT
DTSTART:20261025T010000
END:STANDARD
BEGIN:DAYLIGHT
TZOFFSETFROM:+0000
TZOFFSETTO:+0100
TZNAME:BST
DTSTART:20270328T010000
END:DAYLIGHT
BEGIN:STANDARD
TZOFFSETFROM:+0100
TZOFFSETTO:+0000
TZNAME:GMT
DTSTART:20271031T010000
END:STANDARD
END:VTIMEZONE
BEGIN:VEVENT
DTSTART;VALUE=DATE:20260613
DTEND;VALUE=DATE:20260614
DTSTAMP:20260420T201101
CREATED:20241205T000000Z
LAST-MODIFIED:20260420T162319Z
UID:13719-1781395199-1781395199@brainstrust.org.uk
SUMMARY:Great North Swim 2026 - 1/2 mile\, 1 mile\, 2 mile\, 5k or 10k Challenge
DESCRIPTION:Join team brainstrust’s mission to help people with a brain tumour at the Great North Swim challenge.  Choose your distance from 1/2 mile\, 1 mile\, 2 miles\, 5k or 10k. The Great North Run is the UK’s biggest open water swimming event providing a fantastic opportunity for families\, individuals\, experienced and beginner swimmers to enjoy the open water at Lake Windermere. \n \n 
URL:https://brainstrust.org.uk/event/great-north-swim-2026-1-2-mile-1-mile-2-mile-5k-or-10k-challenge/
CATEGORIES:Fundraising Events
ATTACH;FMTTYPE=image/png:https://brainstrust.org.uk/wp-content/uploads/2026/02/great-north-swim.png
END:VEVENT
END:VCALENDAR