BEGIN:VCALENDAR
VERSION:2.0
PRODID:-//Brainstrust - ECPv6.15.20//NONSGML v1.0//EN
CALSCALE:GREGORIAN
METHOD:PUBLISH
X-WR-CALNAME:Brainstrust
X-ORIGINAL-URL:https://brainstrust.org.uk
X-WR-CALDESC:Events for Brainstrust
REFRESH-INTERVAL;VALUE=DURATION:PT1H
X-Robots-Tag:noindex
X-PUBLISHED-TTL:PT1H
BEGIN:VTIMEZONE
TZID:Europe/London
BEGIN:DAYLIGHT
TZOFFSETFROM:+0000
TZOFFSETTO:+0100
TZNAME:BST
DTSTART:20250330T010000
END:DAYLIGHT
BEGIN:STANDARD
TZOFFSETFROM:+0100
TZOFFSETTO:+0000
TZNAME:GMT
DTSTART:20251026T010000
END:STANDARD
BEGIN:DAYLIGHT
TZOFFSETFROM:+0000
TZOFFSETTO:+0100
TZNAME:BST
DTSTART:20260329T010000
END:DAYLIGHT
BEGIN:STANDARD
TZOFFSETFROM:+0100
TZOFFSETTO:+0000
TZNAME:GMT
DTSTART:20261025T010000
END:STANDARD
BEGIN:DAYLIGHT
TZOFFSETFROM:+0000
TZOFFSETTO:+0100
TZNAME:BST
DTSTART:20270328T010000
END:DAYLIGHT
BEGIN:STANDARD
TZOFFSETFROM:+0100
TZOFFSETTO:+0000
TZNAME:GMT
DTSTART:20271031T010000
END:STANDARD
END:VTIMEZONE
BEGIN:VEVENT
DTSTART;VALUE=DATE:20260531
DTEND;VALUE=DATE:20260601
DTSTAMP:20260420T200539
CREATED:20251205T000000Z
LAST-MODIFIED:20260420T162419Z
UID:13951-1780271999-1780271999@brainstrust.org.uk
SUMMARY:Great Manchester Run Series 2026
DESCRIPTION:Join Team Brainstrust’s mission to help those with a brain tumour at the Great Manchester Run series 2026.  Will you choose the 10k or Half Marathon? Join us for another spectacular running celebration in the heart of Manchester with the AJ Bell Great Manchester Run. The AJ Bell Great Manchester Run is the city’s original and best-loved running event – over 99% of runners say they’d recommend it to a friend. And in true Mancunian style\, it’s a party from start to finish\, with a high-energy soundtrack\, live music and entertainment zones at every turn – plus\, some of the loudest and most enthusiastic local support we’ve seen anywhere in the UK. However\, it’s also a testament to the strength and generous spirit of this incredible city\, with thousands of charity runners taking on the challenge of a 10k or half marathon each year to raise millions for charity. Deadline for entries is 3rd April 2026. \n 
URL:https://brainstrust.org.uk/event/great-manchester-run-series-2026/
CATEGORIES:Fundraising Events
ATTACH;FMTTYPE=image/jpeg:https://brainstrust.org.uk/wp-content/uploads/2026/02/manchester-run.jpg
END:VEVENT
END:VCALENDAR