BEGIN:VCALENDAR
VERSION:2.0
PRODID:-//Brainstrust - ECPv6.15.20//NONSGML v1.0//EN
CALSCALE:GREGORIAN
METHOD:PUBLISH
X-WR-CALNAME:Brainstrust
X-ORIGINAL-URL:https://brainstrust.org.uk
X-WR-CALDESC:Events for Brainstrust
REFRESH-INTERVAL;VALUE=DURATION:PT1H
X-Robots-Tag:noindex
X-PUBLISHED-TTL:PT1H
BEGIN:VTIMEZONE
TZID:Europe/London
BEGIN:DAYLIGHT
TZOFFSETFROM:+0000
TZOFFSETTO:+0100
TZNAME:BST
DTSTART:20250330T010000
END:DAYLIGHT
BEGIN:STANDARD
TZOFFSETFROM:+0100
TZOFFSETTO:+0000
TZNAME:GMT
DTSTART:20251026T010000
END:STANDARD
BEGIN:DAYLIGHT
TZOFFSETFROM:+0000
TZOFFSETTO:+0100
TZNAME:BST
DTSTART:20260329T010000
END:DAYLIGHT
BEGIN:STANDARD
TZOFFSETFROM:+0100
TZOFFSETTO:+0000
TZNAME:GMT
DTSTART:20261025T010000
END:STANDARD
BEGIN:DAYLIGHT
TZOFFSETFROM:+0000
TZOFFSETTO:+0100
TZNAME:BST
DTSTART:20270328T010000
END:DAYLIGHT
BEGIN:STANDARD
TZOFFSETFROM:+0100
TZOFFSETTO:+0000
TZNAME:GMT
DTSTART:20271031T010000
END:STANDARD
END:VTIMEZONE
BEGIN:VEVENT
DTSTART;VALUE=DATE:20260510
DTEND;VALUE=DATE:20260511
DTSTAMP:20260420T185349
CREATED:20251203T000000Z
LAST-MODIFIED:20260420T162419Z
UID:13949-1778457599-1778457599@brainstrust.org.uk
SUMMARY:Great Bristol Run Series - 10k/ Half Marathon 2026
DESCRIPTION:Join brainstrust’s mission to help those with a brain tumour at the Great Bristol Run 2026. Each year\, thousands of runners push their perseverance and passion to the limit and take on the super-scenic 10k and half marathon routes at the AJ Bell Great Bristol Run. If stunning views\, inspiring history and graffiti murals are your thing\, then the Great Bristol Run is right up your street. But it’s not just the inspiring scenery that attracts runners from far and wide: the fast\, flat course also makes this event perfect for those on the hunt for a new personal best – or just looking to get to the finish line! Deadline for entries is 23rd April 2026.
URL:https://brainstrust.org.uk/event/great-bristol-run-series-10k-half-marathon-2026/
CATEGORIES:Fundraising Events
ATTACH;FMTTYPE=image/jpeg:https://brainstrust.org.uk/wp-content/uploads/2026/02/anna-at-reading-half-2025.jpg
END:VEVENT
END:VCALENDAR