BEGIN:VCALENDAR
VERSION:2.0
PRODID:-//Brainstrust - ECPv6.15.20//NONSGML v1.0//EN
CALSCALE:GREGORIAN
METHOD:PUBLISH
X-WR-CALNAME:Brainstrust
X-ORIGINAL-URL:https://brainstrust.org.uk
X-WR-CALDESC:Events for Brainstrust
REFRESH-INTERVAL;VALUE=DURATION:PT1H
X-Robots-Tag:noindex
X-PUBLISHED-TTL:PT1H
BEGIN:VTIMEZONE
TZID:Europe/London
BEGIN:DAYLIGHT
TZOFFSETFROM:+0000
TZOFFSETTO:+0100
TZNAME:BST
DTSTART:20250330T010000
END:DAYLIGHT
BEGIN:STANDARD
TZOFFSETFROM:+0100
TZOFFSETTO:+0000
TZNAME:GMT
DTSTART:20251026T010000
END:STANDARD
BEGIN:DAYLIGHT
TZOFFSETFROM:+0000
TZOFFSETTO:+0100
TZNAME:BST
DTSTART:20260329T010000
END:DAYLIGHT
BEGIN:STANDARD
TZOFFSETFROM:+0100
TZOFFSETTO:+0000
TZNAME:GMT
DTSTART:20261025T010000
END:STANDARD
BEGIN:DAYLIGHT
TZOFFSETFROM:+0000
TZOFFSETTO:+0100
TZNAME:BST
DTSTART:20270328T010000
END:DAYLIGHT
BEGIN:STANDARD
TZOFFSETFROM:+0100
TZOFFSETTO:+0000
TZNAME:GMT
DTSTART:20271031T010000
END:STANDARD
END:VTIMEZONE
BEGIN:VEVENT
DTSTART;VALUE=DATE:20260503
DTEND;VALUE=DATE:20260504
DTSTAMP:20260420T185349
CREATED:20251203T000000Z
LAST-MODIFIED:20260420T162419Z
UID:13950-1777766400-1777852799@brainstrust.org.uk
SUMMARY:Great Birmingham Run Series - 10k / Half Marathon 2026
DESCRIPTION:Join brainstrust’s mission to help those with a brain tumour at the Great Birmingham Run Series. The AJ Bell Great Birmingham Run is the Midlands’ biggest and best running event\, with thousands of Brummie runners taking to the streets every year to challenge themselves and raise cash for charity. There’s everything you’d expect from a Great Run – notorious start line hype\, top on-route entertainment and an event village that feels more like an after party – but the carnival atmosphere and the passion and spirit of the runners is all Birmingham. Expect inspiring sights\, iconic landmarks and incredible support all along the 10k and half marathon route.  The closing date for registrations is 14th April 2026.
URL:https://brainstrust.org.uk/event/great-birmingham-run-series-10k-half-marathon-2026/
CATEGORIES:Fundraising Events
ATTACH;FMTTYPE=image/jpeg:https://brainstrust.org.uk/wp-content/uploads/2026/02/emily-london-landmarks-running-pic.jpeg
END:VEVENT
END:VCALENDAR