BEGIN:VCALENDAR
VERSION:2.0
PRODID:-//Brainstrust - ECPv6.15.20//NONSGML v1.0//EN
CALSCALE:GREGORIAN
METHOD:PUBLISH
X-WR-CALNAME:Brainstrust
X-ORIGINAL-URL:https://brainstrust.org.uk
X-WR-CALDESC:Events for Brainstrust
REFRESH-INTERVAL;VALUE=DURATION:PT1H
X-Robots-Tag:noindex
X-PUBLISHED-TTL:PT1H
BEGIN:VTIMEZONE
TZID:Europe/London
BEGIN:DAYLIGHT
TZOFFSETFROM:+0000
TZOFFSETTO:+0100
TZNAME:BST
DTSTART:20250330T010000
END:DAYLIGHT
BEGIN:STANDARD
TZOFFSETFROM:+0100
TZOFFSETTO:+0000
TZNAME:GMT
DTSTART:20251026T010000
END:STANDARD
BEGIN:DAYLIGHT
TZOFFSETFROM:+0000
TZOFFSETTO:+0100
TZNAME:BST
DTSTART:20260329T010000
END:DAYLIGHT
BEGIN:STANDARD
TZOFFSETFROM:+0100
TZOFFSETTO:+0000
TZNAME:GMT
DTSTART:20261025T010000
END:STANDARD
BEGIN:DAYLIGHT
TZOFFSETFROM:+0000
TZOFFSETTO:+0100
TZNAME:BST
DTSTART:20270328T010000
END:DAYLIGHT
BEGIN:STANDARD
TZOFFSETFROM:+0100
TZOFFSETTO:+0000
TZNAME:GMT
DTSTART:20271031T010000
END:STANDARD
END:VTIMEZONE
BEGIN:VEVENT
DTSTART;VALUE=DATE:20260524
DTEND;VALUE=DATE:20260525
DTSTAMP:20260420T200836
CREATED:20251127T000000Z
LAST-MODIFIED:20260420T162414Z
UID:13930-1779667199-1779667199@brainstrust.org.uk
SUMMARY:Edinburgh Marathon Festival - 5km/10km / Half / Marathon
DESCRIPTION:Join brainstrust’s mission to help people with a brain tumour at the Edinburgh Half Marathon 2026. Come and be part of Scotland’s BIGGEST running festival! This ever-growing festival of running is now a major event in the Scottish sporting calendar. Starting in Edinburgh\, the course heads out through East Lothian offering stunning views and an unforgettable running experience. \nThe Half Marathon and full marathon are now sold out to the general public and charity places are likely to sell out before the end of December. \nThe marathon route is one of the fastest in the UK making that elusive personal best a distinct possibility! Edinburgh Marathon joined the world’s elite road races in 2012 by becoming the first marathon in Scotland to be officially recognised by the IAAF\, the athletics governing body. The IAAF bronze label puts the race among the top 75 in the world making it a pivotal part of the sporting calendar for runners. \nThe full weekend of events attracts around 30\,000 runners\, with thousands more lining the course to support. There are 9 races on offer over two days including the marathon\, half marathon\, team relay\, 10k\, 5k and junior races. There really is something for everyone! \nThe Edinburgh Half Marathon gets underway in Edinburgh as runners make their way up past Greyfriars Bobby.
URL:https://brainstrust.org.uk/event/edinburgh-marathon-festival-5km-10km-half-marathon/
CATEGORIES:Fundraising Events
ATTACH;FMTTYPE=image/jpeg:https://brainstrust.org.uk/wp-content/uploads/2026/02/edinburgh-marathon-image-2-scaled-1.jpg
END:VEVENT
END:VCALENDAR