BEGIN:VCALENDAR
VERSION:2.0
PRODID:-//Brainstrust - ECPv6.15.20//NONSGML v1.0//EN
CALSCALE:GREGORIAN
METHOD:PUBLISH
X-WR-CALNAME:Brainstrust
X-ORIGINAL-URL:https://brainstrust.org.uk
X-WR-CALDESC:Events for Brainstrust
REFRESH-INTERVAL;VALUE=DURATION:PT1H
X-Robots-Tag:noindex
X-PUBLISHED-TTL:PT1H
BEGIN:VTIMEZONE
TZID:Europe/London
BEGIN:DAYLIGHT
TZOFFSETFROM:+0000
TZOFFSETTO:+0100
TZNAME:BST
DTSTART:20250330T010000
END:DAYLIGHT
BEGIN:STANDARD
TZOFFSETFROM:+0100
TZOFFSETTO:+0000
TZNAME:GMT
DTSTART:20251026T010000
END:STANDARD
BEGIN:DAYLIGHT
TZOFFSETFROM:+0000
TZOFFSETTO:+0100
TZNAME:BST
DTSTART:20260329T010000
END:DAYLIGHT
BEGIN:STANDARD
TZOFFSETFROM:+0100
TZOFFSETTO:+0000
TZNAME:GMT
DTSTART:20261025T010000
END:STANDARD
BEGIN:DAYLIGHT
TZOFFSETFROM:+0000
TZOFFSETTO:+0100
TZNAME:BST
DTSTART:20270328T010000
END:DAYLIGHT
BEGIN:STANDARD
TZOFFSETFROM:+0100
TZOFFSETTO:+0000
TZNAME:GMT
DTSTART:20271031T010000
END:STANDARD
END:VTIMEZONE
BEGIN:VEVENT
DTSTART;VALUE=DATE:20260313
DTEND;VALUE=DATE:20260314
DTSTAMP:20260420T213630
CREATED:20260306T141010Z
LAST-MODIFIED:20260306T141833Z
UID:21867-1773360000-1773446399@brainstrust.org.uk
SUMMARY:Dose of Neuroscience – Hypnotherapy Session – Fri 13th March 12.00
DESCRIPTION:A hypnotherapy session to build calm and confidence while understanding the neurochemicals behind emotional wellbeing.\n\n\n\nAre you or a loved one facing the emotional challenges that come with a brain tumour diagnosis? Feelings of anxiety\, overwhelm\, and inner noise can often become daily companions. That’s why we’re inviting you to A Dose of Neuroscience: Hypnotherapy Session\, a 90-minute workshop designed to support you with practical tools for calm and confidence. \nThis session is open to both new participants and members of our existing community. Everyone is welcome.
URL:https://brainstrust.org.uk/event/dose-of-neuroscience-hypnotherapy-session-fri-13th-march-12-00-2/
CATEGORIES:Patient & Caregiver Events
ATTACH;FMTTYPE=image/avif:https://brainstrust.org.uk/wp-content/uploads/2026/02/https___cdn.evbuc_.com_images_1038908933_2743803556101_1_original-6.avif
END:VEVENT
END:VCALENDAR