BEGIN:VCALENDAR
VERSION:2.0
PRODID:-//Brainstrust - ECPv6.15.20//NONSGML v1.0//EN
CALSCALE:GREGORIAN
METHOD:PUBLISH
X-WR-CALNAME:Brainstrust
X-ORIGINAL-URL:https://brainstrust.org.uk
X-WR-CALDESC:Events for Brainstrust
REFRESH-INTERVAL;VALUE=DURATION:PT1H
X-Robots-Tag:noindex
X-PUBLISHED-TTL:PT1H
BEGIN:VTIMEZONE
TZID:Europe/London
BEGIN:DAYLIGHT
TZOFFSETFROM:+0000
TZOFFSETTO:+0100
TZNAME:BST
DTSTART:20250330T010000
END:DAYLIGHT
BEGIN:STANDARD
TZOFFSETFROM:+0100
TZOFFSETTO:+0000
TZNAME:GMT
DTSTART:20251026T010000
END:STANDARD
BEGIN:DAYLIGHT
TZOFFSETFROM:+0000
TZOFFSETTO:+0100
TZNAME:BST
DTSTART:20260329T010000
END:DAYLIGHT
BEGIN:STANDARD
TZOFFSETFROM:+0100
TZOFFSETTO:+0000
TZNAME:GMT
DTSTART:20261025T010000
END:STANDARD
BEGIN:DAYLIGHT
TZOFFSETFROM:+0000
TZOFFSETTO:+0100
TZNAME:BST
DTSTART:20270328T010000
END:DAYLIGHT
BEGIN:STANDARD
TZOFFSETFROM:+0100
TZOFFSETTO:+0000
TZNAME:GMT
DTSTART:20271031T010000
END:STANDARD
END:VTIMEZONE
BEGIN:VEVENT
DTSTART;VALUE=DATE:20261004
DTEND;VALUE=DATE:20261005
DTSTAMP:20260420T200321
CREATED:20231215T000000Z
LAST-MODIFIED:20260420T162231Z
UID:13527-1791072000-1791158399@brainstrust.org.uk
SUMMARY:Cardiff Half Marathon
DESCRIPTION:Join team brainstrust’s mission to help people with a brain tumour at this well established Half Marathon which is now into its 23rd  year and part of the super half series that includes Prague\, Berlin\, Lisbon\, Valencia. The Cardiff Half Marathon has grown into one of the largest and most exciting road races in Europe. It is Wales’ largest mass-participation and multi-charity fundraising event and the second largest half in the UK. Its flat\, fast course passes all the city’s most breath-taking scenery and iconic landmarks including Cardiff Castle\, the Principality Stadium\, Civic Centre and stunning Cardiff Bay. Thousands of spectators turn out to cheer on the runners in a city renowned for its sporting passion. Our places are limited and the deadline for registering is the 1st August 2026. \n \n 
URL:https://brainstrust.org.uk/event/cardiff-half-marathon/
CATEGORIES:Fundraising Events
ATTACH;FMTTYPE=image/jpeg:https://brainstrust.org.uk/wp-content/uploads/2026/02/rich-at-cardiff-half-2025.jpg
END:VEVENT
END:VCALENDAR