BEGIN:VCALENDAR
VERSION:2.0
PRODID:-//Brainstrust - ECPv6.15.20//NONSGML v1.0//EN
CALSCALE:GREGORIAN
METHOD:PUBLISH
X-WR-CALNAME:Brainstrust
X-ORIGINAL-URL:https://brainstrust.org.uk
X-WR-CALDESC:Events for Brainstrust
REFRESH-INTERVAL;VALUE=DURATION:PT1H
X-Robots-Tag:noindex
X-PUBLISHED-TTL:PT1H
BEGIN:VTIMEZONE
TZID:Europe/London
BEGIN:DAYLIGHT
TZOFFSETFROM:+0000
TZOFFSETTO:+0100
TZNAME:BST
DTSTART:20250330T010000
END:DAYLIGHT
BEGIN:STANDARD
TZOFFSETFROM:+0100
TZOFFSETTO:+0000
TZNAME:GMT
DTSTART:20251026T010000
END:STANDARD
BEGIN:DAYLIGHT
TZOFFSETFROM:+0000
TZOFFSETTO:+0100
TZNAME:BST
DTSTART:20260329T010000
END:DAYLIGHT
BEGIN:STANDARD
TZOFFSETFROM:+0100
TZOFFSETTO:+0000
TZNAME:GMT
DTSTART:20261025T010000
END:STANDARD
BEGIN:DAYLIGHT
TZOFFSETFROM:+0000
TZOFFSETTO:+0100
TZNAME:BST
DTSTART:20270328T010000
END:DAYLIGHT
BEGIN:STANDARD
TZOFFSETFROM:+0100
TZOFFSETTO:+0000
TZNAME:GMT
DTSTART:20271031T010000
END:STANDARD
END:VTIMEZONE
BEGIN:VEVENT
DTSTART;VALUE=DATE:20260308
DTEND;VALUE=DATE:20260309
DTSTAMP:20260420T213706
CREATED:20230926T230000Z
LAST-MODIFIED:20260420T162222Z
UID:18475-1772928000-1773014399@brainstrust.org.uk
SUMMARY:Cambridge Half Marathon 2026
DESCRIPTION:Join team brainstrust as we take on the 2026 Cambridge Half Marathon for people with a brain tumour. This flat and fast course starts and finishes on Victoria Avenue in the centre of Cambridge with Midsummer Common as the event site. The route has been updated for 2025 and will now take you through the private grounds of four Colleges of the University of Cambridge – St John’s Trinity\, Kings and Jesus – as well as past iconic landmarks of this famous city including the Bridge of Sighs and the Wren Library. Fantastic support across the course from the public and volunteers as well as pop up musicians and bands will keep you motivated.  It’s a great route\, whether it’s your first 13.1 mile event or you’re looking for a personal best. \nNicholas\, Lauren and Sophie completed Cambridge Half Marathon in 2025. Here’s what they had to say: \n“Loved it\, will be booking again next year!” \n“I loved it!  The course was really pretty \, there was loads of support and I just thouroughly enjoyed the whole thing!” \n“Great supporters\, well organised!” \nOur Team brainstrust charity spaces are limited to just 15 and going quickly\, so sign up today\nAll that we ask is that you commit to a minimum fundraising target of £300. Your fantastic fundraising efforts will ensure that every step you take supports the brain tumour community in feeling less afraid\, less alone and more in control. \nPlease note: A £35 non-refundable deposit is required to secure your place. 
URL:https://brainstrust.org.uk/event/cambridge-half-marathon-2026/
CATEGORIES:Fundraising Events
ATTACH;FMTTYPE=image/jpeg:https://brainstrust.org.uk/wp-content/uploads/2026/02/nuria-cambridge-half-1-of-4-1.jpg
END:VEVENT
END:VCALENDAR