BEGIN:VCALENDAR
VERSION:2.0
PRODID:-//Brainstrust - ECPv6.15.20//NONSGML v1.0//EN
CALSCALE:GREGORIAN
METHOD:PUBLISH
X-WR-CALNAME:Brainstrust
X-ORIGINAL-URL:https://brainstrust.org.uk
X-WR-CALDESC:Events for Brainstrust
REFRESH-INTERVAL;VALUE=DURATION:PT1H
X-Robots-Tag:noindex
X-PUBLISHED-TTL:PT1H
BEGIN:VTIMEZONE
TZID:Europe/London
BEGIN:DAYLIGHT
TZOFFSETFROM:+0000
TZOFFSETTO:+0100
TZNAME:BST
DTSTART:20250330T010000
END:DAYLIGHT
BEGIN:STANDARD
TZOFFSETFROM:+0100
TZOFFSETTO:+0000
TZNAME:GMT
DTSTART:20251026T010000
END:STANDARD
BEGIN:DAYLIGHT
TZOFFSETFROM:+0000
TZOFFSETTO:+0100
TZNAME:BST
DTSTART:20260329T010000
END:DAYLIGHT
BEGIN:STANDARD
TZOFFSETFROM:+0100
TZOFFSETTO:+0000
TZNAME:GMT
DTSTART:20261025T010000
END:STANDARD
BEGIN:DAYLIGHT
TZOFFSETFROM:+0000
TZOFFSETTO:+0100
TZNAME:BST
DTSTART:20270328T010000
END:DAYLIGHT
BEGIN:STANDARD
TZOFFSETFROM:+0100
TZOFFSETTO:+0000
TZNAME:GMT
DTSTART:20271031T010000
END:STANDARD
END:VTIMEZONE
BEGIN:VEVENT
DTSTART;TZID=Europe/London:20260528T183000
DTEND;TZID=Europe/London:20260528T233000
DTSTAMP:20260420T200318
CREATED:20260415T142937Z
LAST-MODIFIED:20260415T143130Z
UID:30281-1779993000-1780011000@brainstrust.org.uk
SUMMARY:brainstrust 20th Anniversary Dinner
DESCRIPTION:brainstrust 20th Anniversary Dinner\nThursday 28 May 2026\nNational Space Centre\, Leicester\nJoin us for a truly special evening as brainstrust celebrates 20 years of supporting the brain tumour community. \n  \nDetails\n£95 per person – includes a three-course meal\, entertainment and inspiring speakers. \nDress code: Dress to impress \nLimited seating available – contact jo@brainstrust.org.uk to book now and secure your place  \n  \nAbout the Evening\nWhen we talk about “reaching for the stars”\, it’s easy to think about ambition in terms of projects\, programmes\, or work. But at brainstrust\, everything we do is rooted in something far more powerful\, community. \nFor the past 20 years\, that spirit has been driven by people living with a brain tumour\, alongside the families\, friends\, clinicians\, and supporters who stand with them. It’s a community that has challenged the status quo and said\, “this isn’t good enough\, we can do better.” \nbrainstrust hasn’t shaped support alone. It has been shaped by you\, by people asking better questions\, sharing experiences\, and refusing to accept “good enough”. \nFrom a small\, determined family supporting one person in 2006\, to a community reaching thousands today\, everything we’ve built has come from listening\, learning\, and working together. \nWhy This Event Matters\nIt feels only fitting that we mark this milestone at the National Space Centre in Leicester\, a place that reflects ambition\, possibility\, and looking beyond what’s known. \nThis evening will be a chance to: \n\nCelebrate how far this community has come\nHear powerful\, real-life stories\nReflect on 20 years of impact\nLook ahead to what the next 20 years could achieve\n\nMost importantly\, it’s a chance to come together\, to recognise what’s been built\, and to be part of what comes next. \nBook Your Place\nWe would love you to be part of this milestone evening. \nTo book your tickets\, or for more information please contact:\nJo –  jo@brainstrust.org.uk \nPlaces are limited\, so we encourage early booking
URL:https://brainstrust.org.uk/event/brainstrust-20th-anniversary-dinner/
CATEGORIES:Fundraising Events
ATTACH;FMTTYPE=image/jpeg:https://brainstrust.org.uk/wp-content/uploads/2026/04/20th-dinner-invitation.jpg
END:VEVENT
END:VCALENDAR