BEGIN:VCALENDAR
VERSION:2.0
PRODID:-//Brainstrust - ECPv6.15.20//NONSGML v1.0//EN
CALSCALE:GREGORIAN
METHOD:PUBLISH
X-WR-CALNAME:Brainstrust
X-ORIGINAL-URL:https://brainstrust.org.uk
X-WR-CALDESC:Events for Brainstrust
REFRESH-INTERVAL;VALUE=DURATION:PT1H
X-Robots-Tag:noindex
X-PUBLISHED-TTL:PT1H
BEGIN:VTIMEZONE
TZID:Europe/London
BEGIN:DAYLIGHT
TZOFFSETFROM:+0000
TZOFFSETTO:+0100
TZNAME:BST
DTSTART:20250330T010000
END:DAYLIGHT
BEGIN:STANDARD
TZOFFSETFROM:+0100
TZOFFSETTO:+0000
TZNAME:GMT
DTSTART:20251026T010000
END:STANDARD
BEGIN:DAYLIGHT
TZOFFSETFROM:+0000
TZOFFSETTO:+0100
TZNAME:BST
DTSTART:20260329T010000
END:DAYLIGHT
BEGIN:STANDARD
TZOFFSETFROM:+0100
TZOFFSETTO:+0000
TZNAME:GMT
DTSTART:20261025T010000
END:STANDARD
BEGIN:DAYLIGHT
TZOFFSETFROM:+0000
TZOFFSETTO:+0100
TZNAME:BST
DTSTART:20270328T010000
END:DAYLIGHT
BEGIN:STANDARD
TZOFFSETFROM:+0100
TZOFFSETTO:+0000
TZNAME:GMT
DTSTART:20271031T010000
END:STANDARD
END:VTIMEZONE
BEGIN:VEVENT
DTSTART;VALUE=DATE:20261011
DTEND;VALUE=DATE:20261012
DTSTAMP:20260420T200546
CREATED:20250205T000000Z
LAST-MODIFIED:20260420T162332Z
UID:13765-1791676800-1791763199@brainstrust.org.uk
SUMMARY:Bournemouth Supersonic 10k 2026
DESCRIPTION:Join team brainstrust’s mission to help people with a brain tumour at the Bournemouth Supersonic 10k. Running in the supersonic 10k will provide you with a glimpse of running the way it should be\, along coastlines with the backdrop of the stunning sea. The Bournemouth Marathon Festival hosts the supersonic 10k and also brings many other distances together in one unique festival of running. The festival is electric and makes for a great weekend out. Running in any event in the Bournemouth Marathon for charity is such a great experience as there’s a team of people cheering you on you every step of the way.  Open to runners 15 and over.  Deadline for entries is 14th September 2026.
URL:https://brainstrust.org.uk/event/bournemouth-supersonic-10k-2026/
CATEGORIES:Fundraising Events
ATTACH;FMTTYPE=image/jpeg:https://brainstrust.org.uk/wp-content/uploads/2026/02/warren-brighton-half-2o25.jpg
END:VEVENT
END:VCALENDAR