BEGIN:VCALENDAR
VERSION:2.0
PRODID:-//Brainstrust - ECPv6.15.20//NONSGML v1.0//EN
CALSCALE:GREGORIAN
METHOD:PUBLISH
X-WR-CALNAME:Brainstrust
X-ORIGINAL-URL:https://brainstrust.org.uk
X-WR-CALDESC:Events for Brainstrust
REFRESH-INTERVAL;VALUE=DURATION:PT1H
X-Robots-Tag:noindex
X-PUBLISHED-TTL:PT1H
BEGIN:VTIMEZONE
TZID:Europe/London
BEGIN:DAYLIGHT
TZOFFSETFROM:+0000
TZOFFSETTO:+0100
TZNAME:BST
DTSTART:20250330T010000
END:DAYLIGHT
BEGIN:STANDARD
TZOFFSETFROM:+0100
TZOFFSETTO:+0000
TZNAME:GMT
DTSTART:20251026T010000
END:STANDARD
BEGIN:DAYLIGHT
TZOFFSETFROM:+0000
TZOFFSETTO:+0100
TZNAME:BST
DTSTART:20260329T010000
END:DAYLIGHT
BEGIN:STANDARD
TZOFFSETFROM:+0100
TZOFFSETTO:+0000
TZNAME:GMT
DTSTART:20261025T010000
END:STANDARD
BEGIN:DAYLIGHT
TZOFFSETFROM:+0000
TZOFFSETTO:+0100
TZNAME:BST
DTSTART:20270328T010000
END:DAYLIGHT
BEGIN:STANDARD
TZOFFSETFROM:+0100
TZOFFSETTO:+0000
TZNAME:GMT
DTSTART:20271031T010000
END:STANDARD
END:VTIMEZONE
BEGIN:VEVENT
DTSTART;VALUE=DATE:20261011
DTEND;VALUE=DATE:20261012
DTSTAMP:20260420T200443
CREATED:20231219T000000Z
LAST-MODIFIED:20260420T162235Z
UID:13543-1791676800-1791763199@brainstrust.org.uk
SUMMARY:Bournemouth Half Marathon 2026
DESCRIPTION:Join team brainstrust’s mission to help people with a brain tumour at Bournemouth Half Marathon. \nBreathtaking views of the sea\, cool coastal routes and the highlights of Poole and Bournemouth will be on show at this fantastic Half Marathon  event. \nThe kind folk of the south coast will be proud to welcome you to their beautiful part of the country. The festival atmosphere is electric and running for charity at this event is truly special.  Registration for this stunning coastal half closes on 14th September 2026. \n \n  \n  \n 
URL:https://brainstrust.org.uk/event/bournemouth-half-marathon-2026/
CATEGORIES:Fundraising Events
ATTACH;FMTTYPE=image/jpeg:https://brainstrust.org.uk/wp-content/uploads/2026/02/great-north-run-chris.jpg
END:VEVENT
END:VCALENDAR