BEGIN:VCALENDAR
VERSION:2.0
PRODID:-//Brainstrust - ECPv6.15.20//NONSGML v1.0//EN
CALSCALE:GREGORIAN
METHOD:PUBLISH
X-WR-CALNAME:Brainstrust
X-ORIGINAL-URL:https://brainstrust.org.uk
X-WR-CALDESC:Events for Brainstrust
REFRESH-INTERVAL;VALUE=DURATION:PT1H
X-Robots-Tag:noindex
X-PUBLISHED-TTL:PT1H
BEGIN:VTIMEZONE
TZID:Europe/London
BEGIN:DAYLIGHT
TZOFFSETFROM:+0000
TZOFFSETTO:+0100
TZNAME:BST
DTSTART:20250330T010000
END:DAYLIGHT
BEGIN:STANDARD
TZOFFSETFROM:+0100
TZOFFSETTO:+0000
TZNAME:GMT
DTSTART:20251026T010000
END:STANDARD
BEGIN:DAYLIGHT
TZOFFSETFROM:+0000
TZOFFSETTO:+0100
TZNAME:BST
DTSTART:20260329T010000
END:DAYLIGHT
BEGIN:STANDARD
TZOFFSETFROM:+0100
TZOFFSETTO:+0000
TZNAME:GMT
DTSTART:20261025T010000
END:STANDARD
BEGIN:DAYLIGHT
TZOFFSETFROM:+0000
TZOFFSETTO:+0100
TZNAME:BST
DTSTART:20270328T010000
END:DAYLIGHT
BEGIN:STANDARD
TZOFFSETFROM:+0100
TZOFFSETTO:+0000
TZNAME:GMT
DTSTART:20271031T010000
END:STANDARD
END:VTIMEZONE
BEGIN:VEVENT
DTSTART;VALUE=DATE:20260510
DTEND;VALUE=DATE:20260511
DTSTAMP:20260420T230425
CREATED:20251216T000000Z
LAST-MODIFIED:20260420T162424Z
UID:13966-1778371200-1778457599@brainstrust.org.uk
SUMMARY:Bidwells Oxford 10k Town & Gown 2026
DESCRIPTION:Join Team Brainstrust’s mission to help those with a brain tumour at the Bidwells Oxford 10k Town & Gown 2026. As the only closed-route 10k race in Oxford\, this sell-out event offers a unique opportunity to run on city roads amidst Oxford’s scenic landmarks and historic charm. \nThe course also features beautiful stretches through the city’s parks and alongside its rivers. With its fast and flat layout\, it’s an ideal setting for both fun runners and experienced runners aiming to achieve a personal best (PB). Join us for the Bidwells Oxford 10k race\, an annual event with this year will see 7000 of you take to the roads.  Deadline for entries is 6th April 2026.
URL:https://brainstrust.org.uk/event/bidwells-oxford-10k-town-gown-2026/
CATEGORIES:Fundraising Events
END:VEVENT
END:VCALENDAR