BEGIN:VCALENDAR
VERSION:2.0
PRODID:-//Brainstrust - ECPv6.15.20//NONSGML v1.0//EN
CALSCALE:GREGORIAN
METHOD:PUBLISH
X-WR-CALNAME:Brainstrust
X-ORIGINAL-URL:https://brainstrust.org.uk
X-WR-CALDESC:Events for Brainstrust
REFRESH-INTERVAL;VALUE=DURATION:PT1H
X-Robots-Tag:noindex
X-PUBLISHED-TTL:PT1H
BEGIN:VTIMEZONE
TZID:Europe/London
BEGIN:DAYLIGHT
TZOFFSETFROM:+0000
TZOFFSETTO:+0100
TZNAME:BST
DTSTART:20250330T010000
END:DAYLIGHT
BEGIN:STANDARD
TZOFFSETFROM:+0100
TZOFFSETTO:+0000
TZNAME:GMT
DTSTART:20251026T010000
END:STANDARD
BEGIN:DAYLIGHT
TZOFFSETFROM:+0000
TZOFFSETTO:+0100
TZNAME:BST
DTSTART:20260329T010000
END:DAYLIGHT
BEGIN:STANDARD
TZOFFSETFROM:+0100
TZOFFSETTO:+0000
TZNAME:GMT
DTSTART:20261025T010000
END:STANDARD
BEGIN:DAYLIGHT
TZOFFSETFROM:+0000
TZOFFSETTO:+0100
TZNAME:BST
DTSTART:20270328T010000
END:DAYLIGHT
BEGIN:STANDARD
TZOFFSETFROM:+0100
TZOFFSETTO:+0000
TZNAME:GMT
DTSTART:20271031T010000
END:STANDARD
END:VTIMEZONE
BEGIN:VEVENT
DTSTART;VALUE=DATE:20261018
DTEND;VALUE=DATE:20261019
DTSTAMP:20260420T200530
CREATED:20240119T000000Z
LAST-MODIFIED:20260420T162237Z
UID:13556-1792367999-1792367999@brainstrust.org.uk
SUMMARY:Amsterdam Marathon 2026 - AREA A
DESCRIPTION:Join team brainstrust’s mission to help people with a brain tumour at the Amsterdam Marathon. Join over 47 000 runners from over 140 countries for this unique city marathon! The event begins and finishes in the Olympic Stadium and provides a scenic course that is flat and fast-paced. Runners will follow the route along the Amsel River and through the Rijksmuseum and Vondelpark. Amsterdam is known as one of Europe’s most stunning cities\, and the Amsterdam Marathon allows runners to take in all of the major sights in a fantastic world-class event. Deadline for entries is 27th July 2026 and our places are limited to 25. Those who book in Area A will be starting within the stadium grounds.
URL:https://brainstrust.org.uk/event/amsterdam-marathon-2026-area-a/
CATEGORIES:Fundraising Events
ATTACH;FMTTYPE=image/jpeg:https://brainstrust.org.uk/wp-content/uploads/2026/02/ladies-at-amsterdam-half-1.jpg
END:VEVENT
END:VCALENDAR