BEGIN:VCALENDAR
VERSION:2.0
PRODID:-//Brainstrust - ECPv6.15.20//NONSGML v1.0//EN
CALSCALE:GREGORIAN
METHOD:PUBLISH
X-WR-CALNAME:Brainstrust
X-ORIGINAL-URL:https://brainstrust.org.uk
X-WR-CALDESC:Events for Brainstrust
REFRESH-INTERVAL;VALUE=DURATION:PT1H
X-Robots-Tag:noindex
X-PUBLISHED-TTL:PT1H
BEGIN:VTIMEZONE
TZID:Europe/London
BEGIN:DAYLIGHT
TZOFFSETFROM:+0000
TZOFFSETTO:+0100
TZNAME:BST
DTSTART:20250330T010000
END:DAYLIGHT
BEGIN:STANDARD
TZOFFSETFROM:+0100
TZOFFSETTO:+0000
TZNAME:GMT
DTSTART:20251026T010000
END:STANDARD
BEGIN:DAYLIGHT
TZOFFSETFROM:+0000
TZOFFSETTO:+0100
TZNAME:BST
DTSTART:20260329T010000
END:DAYLIGHT
BEGIN:STANDARD
TZOFFSETFROM:+0100
TZOFFSETTO:+0000
TZNAME:GMT
DTSTART:20261025T010000
END:STANDARD
BEGIN:DAYLIGHT
TZOFFSETFROM:+0000
TZOFFSETTO:+0100
TZNAME:BST
DTSTART:20270328T010000
END:DAYLIGHT
BEGIN:STANDARD
TZOFFSETFROM:+0100
TZOFFSETTO:+0000
TZNAME:GMT
DTSTART:20271031T010000
END:STANDARD
END:VTIMEZONE
BEGIN:VEVENT
DTSTART;VALUE=DATE:20260306
DTEND;VALUE=DATE:20260307
DTSTAMP:20260420T213813
CREATED:20260226T000000Z
LAST-MODIFIED:20260420T162435Z
UID:14003-1772841599-1772841599@brainstrust.org.uk
SUMMARY:Acoustic Neuroma (Vestibular Schwannoma) Group - Fri 6th March 13.00
DESCRIPTION:A welcoming monthly online space for anyone affected by an acoustic neuroma. \n\nLiving with an acoustic neuroma can feel overwhelming at times\, and it helps to talk to others who truly understand. \nThis is a friendly\, informal online space where you can connect\, share experiences\, or simply listen in. Whether you’re newly diagnosed or further along in your journey\, you’re welcome.
URL:https://brainstrust.org.uk/event/acoustic-neuroma-vestibular-schwannoma-group-fri-6th-march-13-00/
CATEGORIES:Patient & Caregiver Events
ATTACH;FMTTYPE=image/jpeg:https://brainstrust.org.uk/wp-content/uploads/2026/02/dec-broadcast-images-3-7.jpg
END:VEVENT
END:VCALENDAR